BEGIN:VCALENDAR
VERSION:2.0
PRODID:-//ChamberMaster//Event Calendar 2.0//EN
METHOD:PUBLISH
X-PUBLISHED-TTL:P3D
REFRESH-INTERVAL:P3D
CALSCALE:GREGORIAN
BEGIN:VEVENT
DTSTART:20240811T170000Z
DTEND:20240811T210000Z
X-MICROSOFT-CDO-ALLDAYEVENT:FALSE
SUMMARY:Copper Beech Institute-Express Your Creative Flow
DESCRIPTION:Zentangle: Express Your Creative Flow\n\nWith Heather Wlochowski\n\nAugust 11\, 2024\n\n\n\n\n\nDATE AND TIME DETAILS: Sunday\, August 11\, 2024 1:00 pm - 5:00 pm\n\nLOCATION: Copper Beech Institute\n\nADDRESS: 303 Tunxis Rd\, West Hartford\, CT\, USA\n\n\n\n	$100.00   Program Price: Includes materials and refreshments\n\n\n\n\n\nREGISTER NOW\n\n\n\n\n\nIDEAL FOR: No prior artistic experience is necessary to participate. Materials are included.\n\nCome and discover a tool for self-expression\, joy\, and tranquility through Zentangle a meditative art form that combines mindfulness\, creativity\, and relaxation. This half-day retreat is all about finding the perfect balance between mindfulness and artistic exploration.\n\nThe Zentangle Method is an easy-to-learn\, relaxing\, and fun way to create beautiful images with structured patterns. No artistic ability is needed to learn Zentangle\, making it accessible to all.\n\nTogether\, we will: \n\n  Experience the meditative flow of Zentangle\n\n  Find joy in the gentle strokes and intricate designs that emerge from our self-expression\n\n  Explore our relationship to perfectionism through the 'no mistakes' philosophy of this simple art form\n\n  Build connections with our fellow creators through the beauty of our unique Zentangle creations\n\n  And\, of course\, leave with a beautiful creation to cherish at home!\n\nDon't miss this opportunity to explore this contemplative practice and nurture your creative spirit. Join us for a rejuvenating retreat filled with mindfulness and artistic discovery.\n\nTuition (Includes Materials and Refreshments):\n\n$100
X-ALT-DESC;FMTTYPE=text/html:<div>\n<div>\n<h2>Zentangle: Express Your Creative Flow</h2>\n\n<h3>With Heather Wlochowski</h3>\n\n<p>August 11\, 2024</p>\n</div>\n\n<div>\n<div>\n<div>\n<p><strong>DATE AND TIME DETAILS:</strong>&nbsp\;Sunday\, August 11\, 2024 1:00 pm - 5:00 pm</p>\n\n<p><strong>LOCATION:</strong>&nbsp\;Copper Beech Institute</p>\n\n<p><strong>ADDRESS:</strong>&nbsp\;303 Tunxis Rd\, West Hartford\, CT\, USA</p>\n\n<div>\n<ul>\n	<li>$100.00 &ndash\; Program Price: Includes materials and refreshments</li>\n</ul>\n</div>\n</div>\n\n<div>\n<div><a href="https://copperbeechinstitute.secure.retreat.guru/program/zentangle-renew-your-creative-flow/?form=1&amp\;lang=en" style="box-sizing: border-box\; color: rgb(0\, 0\, 0)\; background-color: transparent\; text-decoration-line: none\; line-height: 15px\; font-weight: bold\; padding: 15px 0px\; font-size: 15px\; text-transform: capitalize\; cursor: pointer\; border-radius: 4px\; border-width: 1px\; border-style: solid\; display: inline-block\; margin: 0px\; text-align: center\; border-color: rgb(82\, 82\, 82)\; width: 381.333px\;">REGISTER NOW</a></div>\n</div>\n</div>\n</div>\n\n<div>\n<p><strong>IDEAL FOR:</strong>&nbsp\;<em>No prior artistic experience is necessary to participate. Materials are included.</em></p>\n\n<p>Come and discover a tool for self-expression\, joy\, and tranquility through Zentangle&mdash\;a meditative art form that combines mindfulness\, creativity\, and relaxation. This half-day retreat is all about finding the perfect balance between mindfulness and artistic exploration.</p>\n\n<p>The Zentangle Method is an easy-to-learn\, relaxing\, and fun way to create beautiful images with structured patterns. No artistic ability is needed to learn Zentangle\, making it accessible to all.</p>\n\n<p><strong>Together\, we will:&nbsp\;</strong></p>\n\n<p>&ndash\; Experience the meditative flow of Zentangle<br />\n&ndash\; Find joy in the gentle strokes and intricate designs that emerge from our self-expression<br />\n&ndash\; Explore our relationship to perfectionism through the &lsquo\;no mistakes&rsquo\; philosophy of this simple art form<br />\n&ndash\; Build connections with our fellow creators through the beauty of our unique Zentangle creations<br />\n&ndash\; And\, of course\, leave with a beautiful creation to cherish at home!</p>\n\n<p>Don&rsquo\;t miss this opportunity to explore this contemplative practice and nurture your creative spirit. Join us for a rejuvenating retreat filled with mindfulness and artistic discovery.</p>\n\n<p><strong>Tuition (Includes Materials and Refreshments):</strong><br />\n$100</p>\n</div>\n</div>\n
LOCATION:
UID:e.3150.15082
SEQUENCE:3
DTSTAMP:20260424T163855Z
URL:https://business.whchamber.com/events/details/zentangle-express-your-creative-flow-15082
END:VEVENT

END:VCALENDAR
