BEGIN:VCALENDAR
VERSION:2.0
PRODID:-//ChamberMaster//Event Calendar 2.0//EN
METHOD:PUBLISH
X-PUBLISHED-TTL:P3D
REFRESH-INTERVAL:P3D
CALSCALE:GREGORIAN
BEGIN:VEVENT
DTSTART:20220412T213000Z
DTEND:20220412T230000Z
X-MICROSOFT-CDO-ALLDAYEVENT:FALSE
SUMMARY:Your Money Matters! Maximizing & protecting the value of your biggest investments
DESCRIPTION:We will discuss maximizing & protecting the value of your biggest investments while enjoying hors d'oeuvres and beer/wine at Barcelona Wine Bar in West Hartford.\n\n\n\nWe will be joined by Alyssa Caliendo\, Branch Manager of Bay Equity\, to discuss mortgages and the process of effectively utilizing your home equity\, Jason Coscia\, Business Development Executive with Brooks\, Todd\, & McNeil who will discuss proper insurance coverage to avoid unnecessary exposure to risk\, and Eric Bergenn of New England Financial Group to discuss financial wellness and how to put yourself in the best position to succeed.
X-ALT-DESC;FMTTYPE=text/html:<span style="color:rgb(102\, 102\, 102)\; font-family:helvetica neue\,helvetica\,arial\,sans-serif\; font-size:16px">We will discuss maximizing &amp\; protecting the value of your biggest investments while enjoying hors d&#39\;oeuvres and beer/wine at Barcelona Wine Bar in West Hartford.</span><br />\n<br />\n<span style="color:rgb(102\, 102\, 102)\; font-family:helvetica neue\,helvetica\,arial\,sans-serif\; font-size:16px">We will be joined by Alyssa Caliendo\, Branch Manager of Bay Equity\, to discuss mortgages and the process of effectively utilizing your home equity\, Jason Coscia\, Business Development Executive with Brooks\, Todd\, &amp\; McNeil who will discuss proper insurance coverage to avoid unnecessary exposure to risk\, and Eric Bergenn of New England Financial Group to discuss financial wellness and how to put yourself in the best position to succeed.</span>
LOCATION:Barcelona Wine Bar
UID:e.3150.9398
SEQUENCE:3
DTSTAMP:20260425T234213Z
URL:https://business.whchamber.com/events/details/your-money-matters-maximizing-protecting-the-value-of-your-biggest-investments-9398
END:VEVENT

END:VCALENDAR
