BEGIN:VCALENDAR
VERSION:2.0
PRODID:-//ChamberMaster//Event Calendar 2.0//EN
METHOD:PUBLISH
X-PUBLISHED-TTL:P3D
REFRESH-INTERVAL:P3D
CALSCALE:GREGORIAN
BEGIN:VEVENT
DTSTART:20240208T230000Z
DTEND:20240209T003000Z
X-MICROSOFT-CDO-ALLDAYEVENT:FALSE
SUMMARY:Young Professionals Night: Ms. Holmes & Ms. Watson - Apt 2B
DESCRIPTION:An irreverent\, darkly comic\, modern take on Sir Arthur Conan Doyle's famous sleuth and sidekick\, this fast-paced romp re-examines the world's most famous detective story with a bold new feminist lens. In this highly theatrical\, small-cast escapade\, oddball female roommates Sherlock (yes\, it's also a girl's name wait\, is it a girl's name? Is it even a name?) Holmes & Joan Watson join forces to emerge from pandemic fog as a deeply codependent\, quasi-dysfunctional Odd Couple adventure duo solving mysteries and kicking butts\, until they come face to face with a villain who seems to have all of the answers. YOUNG PROFESSIONALS NIGHT: Thursday\, February 8th\, 2024 $25 Tickets for Ages 21-35 6pm reception\; 7:30pm performance
X-ALT-DESC;FMTTYPE=text/html:An irreverent\, darkly comic\, modern take on Sir Arthur Conan Doyle&rsquo\;s famous sleuth and sidekick\, this fast-paced romp re-examines the world&rsquo\;s most famous detective story with a bold new feminist lens. In this highly theatrical\, small-cast escapade\, oddball female roommates Sherlock (yes\, it&rsquo\;s also a girl&rsquo\;s name&mdash\;wait\, is it a girl&rsquo\;s name? Is it even a name?) Holmes &amp\; Joan Watson join forces to emerge from pandemic fog as a deeply codependent\, quasi-dysfunctional Odd Couple adventure duo&mdash\;solving mysteries and kicking butts\, until they come face to face with a villain who seems to have all of the answers. YOUNG PROFESSIONALS NIGHT: Thursday\, February 8th\, 2024 $25 Tickets for Ages 21-35 6pm reception\; 7:30pm performance
LOCATION:Playhouse on Park
UID:e.3150.12713
SEQUENCE:3
DTSTAMP:20260425T013224Z
URL:https://business.whchamber.com/events/details/young-professionals-night-ms-holmes-ms-watson-apt-2b-12713
END:VEVENT

END:VCALENDAR
