BEGIN:VCALENDAR
VERSION:2.0
PRODID:-//ChamberMaster//Event Calendar 2.0//EN
METHOD:PUBLISH
X-PUBLISHED-TTL:P3D
REFRESH-INTERVAL:P3D
CALSCALE:GREGORIAN
BEGIN:VEVENT
DTSTART:20240914T150000Z
DTEND:20240914T170000Z
X-MICROSOFT-CDO-ALLDAYEVENT:FALSE
SUMMARY:World Fencing Day Open House
DESCRIPTION:Join us for a special Open House right after our First Blades Foil class in honor of World Fencing Day! Whether you've been inspired by Olympic fencing or are simply curious about the sport\, this is your chance to dive in. \n\n\n\nEvent Highlights:\n\n\n\n-Meet our experienced coaches\n\n-Participate in a mini fencing lesson\n\n-Discover what makes fencing a thrilling game of "physical chess"\n\n-Learn more about our club and how to get started\n\n\n\nDon't miss this opportunity to explore the world of fencing and see if it's the perfect sport for you. We look forward to seeing you there!\n\n\n\nIf you don't already\, please like and follow on FB and Instagram for updates and more events.
X-ALT-DESC;FMTTYPE=text/html:Join us for a special Open House right after our First Blades Foil class in honor of World Fencing Day! Whether you&#39\;ve been inspired by Olympic fencing or are simply curious about the sport\, this is your chance to dive in.&nbsp\;<br />\n<br />\nEvent Highlights:<br />\n<br />\n-Meet our experienced coaches<br />\n-Participate in a mini fencing lesson<br />\n-Discover what makes fencing a thrilling game of &quot\;physical chess&quot\;<br />\n-Learn more about our club and how to get started<br />\n<br />\nDon&#39\;t miss this opportunity to explore the world of fencing and see if it&#39\;s the perfect sport for you. We look forward to seeing you there!<br />\n<br />\nIf you don&#39\;t already\, please like and follow on FB and Instagram for updates and more events.
LOCATION:54 Hazard Ave Unit 20\, Enfield CT
UID:e.3150.15258
SEQUENCE:3
DTSTAMP:20260424T152433Z
URL:https://business.whchamber.com/events/details/world-fencing-day-open-house-15258
END:VEVENT

END:VCALENDAR
