BEGIN:VCALENDAR
VERSION:2.0
PRODID:-//ChamberMaster//Event Calendar 2.0//EN
METHOD:PUBLISH
X-PUBLISHED-TTL:P3D
REFRESH-INTERVAL:P3D
CALSCALE:GREGORIAN
BEGIN:VEVENT
DTSTART:20230615T210000Z
DTEND:20230615T230000Z
X-MICROSOFT-CDO-ALLDAYEVENT:FALSE
SUMMARY:#WorkLife Happy Hour @Gastropark - Hosted by WHCowork
DESCRIPTION:The Premier Happy Hour for Hartford Professionals - Gather\, Graze\, and Cheers for a Great Cause. J?oin us every Third Thursday for #WorkLife Happy Hour at Gastropark. G?ather with fellow entrepreneurs\, professionals\, opportunity seekers\, and dreamers over cocktails\, mocktails\, craft beer and delicious dishes. A? portion of proceeds from food and beverage enjoyment will go to benefit local non-profit - Bromleigh Enterprises and our mission of supporting economic development in Greater Hartford. A?ll are welcome!
X-ALT-DESC;FMTTYPE=text/html:The Premier Happy Hour for Hartford Professionals - Gather\, Graze\, and Cheers for a Great Cause. J?oin us every Third Thursday for #WorkLife Happy Hour at Gastropark. G?ather with fellow entrepreneurs\, professionals\, opportunity seekers\, and dreamers over cocktails\, mocktails\, craft beer and delicious dishes. A? portion of proceeds from food and beverage enjoyment will go to benefit local non-profit - Bromleigh Enterprises and our mission of supporting economic development in Greater Hartford. A?ll are welcome!
LOCATION:Gastropark
UID:e.3150.12523
SEQUENCE:3
DTSTAMP:20260425T133216Z
URL:https://business.whchamber.com/events/details/worklife-happy-hour-gastropark-hosted-by-whcowork-06-15-2023-12523
END:VEVENT

END:VCALENDAR
