BEGIN:VCALENDAR
VERSION:2.0
PRODID:-//ChamberMaster//Event Calendar 2.0//EN
METHOD:PUBLISH
X-PUBLISHED-TTL:P3D
REFRESH-INTERVAL:P3D
CALSCALE:GREGORIAN
BEGIN:VEVENT
DTSTART:20240323T180000Z
DTEND:20240323T200000Z
X-MICROSOFT-CDO-ALLDAYEVENT:FALSE
SUMMARY:WordHouse Poetry
DESCRIPTION:Join us at the Noah Webster House & West Hartford Historical Society for a FREE poetry reading on Saturday\, March 29 from 2:00pm - 4:00pm. Each program begins with an open mic and features two headlining poets. March's poets are Danny Lawless and Clare Rossini. No registration is required and donations are greatly appreciated to support the not-for-profit museum. Please visit www.noahwebsterhouse.org/wordhouse-poetry/ for more information.
X-ALT-DESC;FMTTYPE=text/html:Join us at the Noah Webster House &amp\; West Hartford Historical Society for a FREE poetry reading on Saturday\, March 29 from 2:00pm - 4:00pm. Each program begins with an open mic and features two headlining poets. March&rsquo\;s poets are Danny Lawless and Clare Rossini. No registration is required and donations are greatly appreciated to support the not-for-profit museum. Please visit www.noahwebsterhouse.org/wordhouse-poetry/ for more information.
LOCATION:Noah Webster House & West Hartford Historical Society 227 South Main Street\, West Hartford\, CT\, 06107
UID:e.3150.12755
SEQUENCE:3
DTSTAMP:20260425T000214Z
URL:https://business.whchamber.com/events/details/wordhouse-poetry-03-23-2024-12755
END:VEVENT

END:VCALENDAR
