BEGIN:VCALENDAR
VERSION:2.0
PRODID:-//ChamberMaster//Event Calendar 2.0//EN
METHOD:PUBLISH
X-PUBLISHED-TTL:P3D
REFRESH-INTERVAL:P3D
CALSCALE:GREGORIAN
BEGIN:VEVENT
DTSTART:20230318T180000Z
DTEND:20230318T200000Z
X-MICROSOFT-CDO-ALLDAYEVENT:FALSE
SUMMARY:WordHouse Poetry
DESCRIPTION:Poetry is back at the Noah Webster House! A series of poetry readings\, WordHouse\, has been organized by James Finnegan\, West Hartford's third Poet Laureate. These readings will take place on February 18\, March 18\, April 8\, May 27\, and June 10 from 2:00pm-4:00pm. Read here for the most up to date information on speakers: https://wordhousereadings.blogspot.com/ All readings take place at the Noah Webster House and begin with an open mic. No registration is required. Free and open to the public. Donations are greatly appreciated.
X-ALT-DESC;FMTTYPE=text/html:Poetry is back at the Noah Webster House! A series of poetry readings\, WordHouse\, has been organized by James Finnegan\, West Hartford&rsquo\;s third Poet Laureate. These readings will take place on February 18\, March 18\, April 8\, May 27\, and June 10 from 2:00pm-4:00pm. Read here for the most up to date information on speakers: https://wordhousereadings.blogspot.com/ All readings take place at the Noah Webster House and begin with an open mic. No registration is required. Free and open to the public. Donations are greatly appreciated.
LOCATION:Noah Webster House 227 South Main Street West Hartford\, CT 06107
UID:e.3150.12477
SEQUENCE:3
DTSTAMP:20260425T164740Z
URL:https://business.whchamber.com/events/details/wordhouse-poetry-03-18-2023-12477
END:VEVENT

END:VCALENDAR
