BEGIN:VCALENDAR
VERSION:2.0
PRODID:-//ChamberMaster//Event Calendar 2.0//EN
METHOD:PUBLISH
X-PUBLISHED-TTL:P3D
REFRESH-INTERVAL:P3D
CALSCALE:GREGORIAN
BEGIN:VEVENT
DTSTART:20250201T190000Z
DTEND:20250201T210000Z
X-MICROSOFT-CDO-ALLDAYEVENT:FALSE
SUMMARY:WordHouse Poetry
DESCRIPTION:Join us at the Noah Webster House & West Hartford Historical Society for a FREE poetry reading on Saturday\, February 1 from 2:00pm - 4:00pm. Each program begins with an open mic and features two headlining poets. This month's poets are Former and Current Members of the Brickwalk Poets: a poetry workshop group with a 30-year history. No registration is required and donations are greatly appreciated to support the not-for-profit museum. Please visit www.noahwebsterhouse.org/wordhouse-poetry/ for more information.
X-ALT-DESC;FMTTYPE=text/html:<span style="background-color:transparent\; color:rgb(0\, 0\, 0)\; font-family:times new roman\,serif\; font-size:12pt">Join us at the Noah Webster House &amp\; West Hartford Historical Society for a FREE poetry reading on </span><strong>Saturday\, </strong><strong>February 1</strong><span style="background-color:transparent\; color:rgb(0\, 0\, 0)\; font-family:times new roman\,serif\; font-size:12pt"> from 2:00pm - 4:00pm. </span><span style="color:rgb(0\, 0\, 0)\; font-family:times new roman\,serif\; font-size:12pt">Each program begins with an open mic and features two headlining poets. This month&rsquo\;s poets are </span><strong>Former and Current Members of the Brickwalk Poets: a poetry workshop group with a 30-year history</strong><span style="color:rgb(0\, 0\, 0)\; font-family:times new roman\,serif\; font-size:12pt">. No registration is required and donations are greatly appreciated to support the not-for-profit museum. Please visit </span><a href="https://noahwebsterhouse.org/wordhouse-poetry/" style="text-decoration-line: none\;"><span style="color:rgb(0\, 0\, 0)\; font-family:times new roman\,serif\; font-size:12pt">www.noahwebsterhouse.org/wordhouse-poetry/</span></a><span style="background-color:transparent\; color:rgb(0\, 0\, 0)\; font-family:times new roman\,serif\; font-size:12pt"> </span><span style="color:rgb(0\, 0\, 0)\; font-family:times new roman\,serif\; font-size:12pt">for more information.</span>
LOCATION:Noah Webster House & West Hartford Historical Society 227 South Main Street\, West Hartford\, CT\, 06107
UID:e.3150.15833
SEQUENCE:3
DTSTAMP:20260424T041839Z
URL:https://business.whchamber.com/events/details/wordhouse-poetry-02-01-2025-15833
END:VEVENT

END:VCALENDAR
