BEGIN:VCALENDAR
VERSION:2.0
PRODID:-//ChamberMaster//Event Calendar 2.0//EN
METHOD:PUBLISH
X-PUBLISHED-TTL:P3D
REFRESH-INTERVAL:P3D
CALSCALE:GREGORIAN
BEGIN:VEVENT
DTSTART:20230321T153000Z
DTEND:20230321T163000Z
X-MICROSOFT-CDO-ALLDAYEVENT:FALSE
SUMMARY:Women's History Month Business Panel with CMWP & Albertus Magnus
DESCRIPTION:Join CMWP and The Center for Innovation & Entrepreneurship at Albertus Magnus for a Women's History Month Business Panel Discussion.\n\n \nJoin CMWP and The Center for Innovation & Entrepreneurship at Albertus Magnus as C?MWP members discuss their journey to entrepreneurship.\n\nP?anelists:\n\n\n	Shawniel Chamanlal\, LSCW\, CEO & Founder\, Healing Springs Wellness Center\n	L?uvena Leslie\, Owner\, The Curly Hair Salon\n	D?r. Jennifer Pierre\, CEO & Owner\, JenteelNature Health\n	N?atalie Pryce\, The Careerpreneur\, Pryceless Consulting\n\n\nH?ost: Kob y Smith
X-ALT-DESC;FMTTYPE=text/html:Join CMWP and The Center for Innovation &amp\; Entrepreneurship at Albertus Magnus for a Women&#39\;s History Month Business Panel Discussion.<br />\n&nbsp\;\n<p>Join <strong>CMWP</strong> and <strong>The Center for Innovation &amp\; Entrepreneurship</strong> at Albertus Magnus as C?MWP members discuss their journey to entrepreneurship.</p>\n\n<p>P?anelists:</p>\n\n<ul>\n	<li>Shawniel Chamanlal\, LSCW\, CEO &amp\; Founder\, Healing Springs Wellness Center</li>\n	<li>L?uvena Leslie\, Owner\, The Curly Hair Salon</li>\n	<li>D?r. Jennifer Pierre\, CEO &amp\; Owner\, JenteelNature Health</li>\n	<li>N?atalie Pryce\, The Careerpreneur\, Pryceless Consulting</li>\n</ul>\n\n<p>H?ost: Kob&eacute\;y Smith</p>\n
LOCATION:Albertus Magnus College - Behan Community Room 831 Winchester Avenue New Haven\, CT
UID:e.3150.12506
SEQUENCE:3
DTSTAMP:20260425T164740Z
URL:https://business.whchamber.com/events/details/women-s-history-month-business-panel-with-cmwp-albertus-magnus-12506
END:VEVENT

END:VCALENDAR
