BEGIN:VCALENDAR
VERSION:2.0
PRODID:-//ChamberMaster//Event Calendar 2.0//EN
METHOD:PUBLISH
X-PUBLISHED-TTL:P3D
REFRESH-INTERVAL:P3D
CALSCALE:GREGORIAN
BEGIN:VEVENT
DTSTART:20240313T123000Z
DTEND:20240313T141500Z
X-MICROSOFT-CDO-ALLDAYEVENT:FALSE
SUMMARY:Women Empowering Women Panel Discussion
DESCRIPTION:The event is free with limited seating and required registration   Hear from experienced women business owners in celebration of Women's History Month   Open to women business owners and entrepreneurs with a focus on those located in West Hartford and Farmington   Networking from 8:30am-9:00am with a continental breakfast   Panel discussion from 9:00am-10:00am and Q&A from 10:00am-10:15am   Presented by West Hartford's Office of Equity Advancement and Economic Development departments and Explore Farmington   Event registration: https://bit.ly/WEWWH2024
X-ALT-DESC;FMTTYPE=text/html:&bull\; The event is free with limited seating and required registration &bull\; Hear from experienced women business owners in celebration of Women&rsquo\;s History Month &bull\; Open to women business owners and entrepreneurs with a focus on those located in West Hartford and Farmington &bull\; Networking from 8:30am-9:00am with a continental breakfast &bull\; Panel discussion from 9:00am-10:00am and Q&amp\;A from 10:00am-10:15am &bull\; Presented by West Hartford&rsquo\;s Office of Equity Advancement and Economic Development departments and Explore Farmington &bull\; Event registration: https://bit.ly/WEWWH2024
LOCATION:Town Hall Auditorium 50 South Main Street West Hartford\, CT 06107
UID:e.3150.12816
SEQUENCE:3
DTSTAMP:20260424T222712Z
URL:https://business.whchamber.com/events/details/women-empowering-women-panel-discussion-12816
END:VEVENT

END:VCALENDAR
