BEGIN:VCALENDAR
VERSION:2.0
PRODID:-//ChamberMaster//Event Calendar 2.0//EN
METHOD:PUBLISH
X-PUBLISHED-TTL:P3D
REFRESH-INTERVAL:P3D
CALSCALE:GREGORIAN
BEGIN:VEVENT
DTSTART:20240403T190000Z
DTEND:20240403T200000Z
X-MICROSOFT-CDO-ALLDAYEVENT:FALSE
SUMMARY:Wine Bingo Social and Networking Event
DESCRIPTION:Play Bingo and enjoy hors d'oeuvres paired with wines. Adam Fishman from Harvey's Wine & Spirits will lead us in a wine tasting and educate us on each pairing. The winner from each round will take home a bottle! We welcome those interested in learning more about The McAuley and all those from the business community who serve older adults.
X-ALT-DESC;FMTTYPE=text/html:Play Bingo and enjoy hors d&#39\;oeuvres paired with wines. Adam Fishman from Harvey&#39\;s Wine &amp\; Spirits will lead us in a wine tasting and educate us on each pairing. The winner from each round will take home a bottle! We welcome those interested in learning more about The McAuley and all those from the business community who serve older adults.
LOCATION:The McAuley 275 Steele Road West Hartford\, CT 06117
UID:e.3150.12956
SEQUENCE:3
DTSTAMP:20260424T222712Z
URL:https://business.whchamber.com/events/details/wine-bingo-social-and-networking-event-12956
END:VEVENT

END:VCALENDAR
