BEGIN:VCALENDAR
VERSION:2.0
PRODID:-//ChamberMaster//Event Calendar 2.0//EN
METHOD:PUBLISH
X-PUBLISHED-TTL:P3D
REFRESH-INTERVAL:P3D
CALSCALE:GREGORIAN
BEGIN:VEVENT
DTSTART:20250319T220000Z
DTEND:20250320T000000Z
X-MICROSOFT-CDO-ALLDAYEVENT:FALSE
SUMMARY:Windsor Women's Networking
DESCRIPTION:If you are a Windsor-neighboring\, female identifying professional or entrepreneur looking to expand your business TO Windsor\, join us! Each session\, we kick things off in a casual way\, with snacks and conversations We welcome guest facilitators from the Windsor Worx and Windsor Chamber business community to guide us through meaningful and educational topics that benefit all modern female business owners and professionals! \n\nOpen to chamber members and non-members! We invite you to learn more about all the benefits and camaraderie the Windsor Chamber of Commerce has to offer at www.windsorcc.org\n\nPlease RSVP here:\n\nhttps://www.eventbrite.com/e/womens-networking-group-presented-by-windsor-worx-windsor-chamber-tickets-1090140803489
X-ALT-DESC;FMTTYPE=text/html:<p>If you are a Windsor-neighboring\, female identifying professional or entrepreneur looking to expand your business TO Windsor\, join us! Each session\, we kick things off in a casual way\, with snacks and conversations We welcome guest facilitators from the Windsor Worx and Windsor Chamber business community to guide us through meaningful and educational topics that benefit all modern female business owners and professionals!&nbsp\;</p>\n\n<p>Open to chamber members and non-members! We invite you to learn more about all the benefits and camaraderie the Windsor Chamber of Commerce has to offer at&nbsp\;<a href="https://www.windsorcc.org/" style="box-sizing: border-box\; background-color: transparent\; color: rgb(54\, 51\, 137)\; text-decoration-line: none\; cursor: pointer\;">www.windsorcc.org</a></p>\n\n<p>Please RSVP here:</p>\n\n<p><a href="https://www.eventbrite.com/e/womens-networking-group-presented-by-windsor-worx-windsor-chamber-tickets-1090140803489" style="box-sizing: border-box\; background-color: transparent\; color: rgb(54\, 51\, 137)\; text-decoration-line: none\; cursor: pointer\;">https://www.eventbrite.com/e/womens-networking-group-presented-by-windsor-worx-windsor-chamber-tickets-1090140803489</a></p>\n
LOCATION:Windsor Worx 41 Mechanic Street First Floor - Back Entrance Windsor\, CT United States
UID:e.3150.15873
SEQUENCE:3
DTSTAMP:20260424T011141Z
URL:https://business.whchamber.com/events/details/windsor-women-s-networking-03-19-2025-15873
END:VEVENT

END:VCALENDAR
