BEGIN:VCALENDAR
VERSION:2.0
PRODID:-//ChamberMaster//Event Calendar 2.0//EN
METHOD:PUBLISH
X-PUBLISHED-TTL:P3D
REFRESH-INTERVAL:P3D
CALSCALE:GREGORIAN
BEGIN:VEVENT
DTSTART:20230117T233000Z
DTEND:20230118T001500Z
X-MICROSOFT-CDO-ALLDAYEVENT:FALSE
SUMMARY:When There's a Will\, There's a Way (Virtual Workshop)
DESCRIPTION:What is estate planning\, and why do we need it? Chances are\, if you've heard about it before\, you may be procrastinating because you aren't sure how to get started. Long-time Bloomfield resident Kevin Palache of LegalShield is here to help. Kevin will identify the top barriers to estate planning and how to overcome them. He will also cover the four goals of estate planning\, important documents to have\, and the difference between a will and a living will.\n\nYou will receive the Zoom link via email after registration.\n\nLearn more about LegalShield at www.familyrightsplan.com
X-ALT-DESC;FMTTYPE=text/html:<p>What is estate planning\, and why do we need it? Chances are\, if you&rsquo\;ve heard about it before\, you may be procrastinating because you aren&rsquo\;t sure how to get started. Long-time Bloomfield resident Kevin Palache of LegalShield is here to help. Kevin will identify the top barriers to estate planning and how to overcome them. He will also cover the four goals of estate planning\, important documents to have\, and the difference between a will and a living will.</p>\n\n<p>You will receive the Zoom link via email after <a href="https://bplct.evanced.info/signup/EventDetails?EventId=11125&amp\;backTo=Calendar&amp\;startDate=2023/01/01" target="_blank">registration</a>.</p>\n\n<p>Learn more about LegalShield at <a href="http://www.familyrightsplan.com">www.familyrightsplan.com</a></p>\n
LOCATION:Webinar event. Register HERE
UID:e.3150.12457
SEQUENCE:3
DTSTAMP:20260425T192921Z
URL:https://business.whchamber.com/events/details/when-there-s-a-will-there-s-a-way-virtual-workshop-12457
END:VEVENT

END:VCALENDAR
