BEGIN:VCALENDAR
VERSION:2.0
PRODID:-//ChamberMaster//Event Calendar 2.0//EN
METHOD:PUBLISH
X-PUBLISHED-TTL:P3D
REFRESH-INTERVAL:P3D
CALSCALE:GREGORIAN
BEGIN:VEVENT
DTSTART:20241109T230000Z
DTEND:20241110T030000Z
X-MICROSOFT-CDO-ALLDAYEVENT:FALSE
SUMMARY:WHCi 45th Birthday Party - Wine Tasting with Two Guys and a Lotta Wine
DESCRIPTION:West Hartford Community Television / Interactive is celebrating 45 years as our town's non-profit community media center and our volunteers are throwing a big birthday party benefit on November 9\, 2024 in the West Hartford Town Hall Auditorium beginning at 6 pm. MC for the night is Ray Hardman of NPR fame along with community producers Bobby P. and Rocky Holland of Two Guys and a Lotta Wine who are hosting a guided wine tasting\, dinner & a special highlight video and dancing.
X-ALT-DESC;FMTTYPE=text/html:<span style="color:black"><span style="font-family:arial\,sans-serif"><span style="font-size:11.0pt">West Hartford Community Television / Interactive is celebrating 45 years as our town&rsquo\;s non-profit community media center and our volunteers are throwing a big birthday party benefit on November 9\, 2024 in the West Hartford Town Hall Auditorium beginning at 6 pm. MC for the night is Ray Hardman of NPR fame along with community producers Bobby P. and Rocky Holland of Two Guys and a Lotta Wine who are hosting a guided wine tasting\, dinner &amp\; a special highlight video and dancing.</span></span></span>
LOCATION:West Hartford Meeting and Conference Center 50 South Main Street West Hartford\, CT 06107
UID:e.3150.15286
SEQUENCE:3
DTSTAMP:20260424T124016Z
URL:https://business.whchamber.com/events/details/whci-45th-birthday-party-wine-tasting-with-two-guys-and-a-lotta-wine-15286
END:VEVENT

END:VCALENDAR
