BEGIN:VCALENDAR
VERSION:2.0
PRODID:-//ChamberMaster//Event Calendar 2.0//EN
METHOD:PUBLISH
X-PUBLISHED-TTL:P3D
REFRESH-INTERVAL:P3D
CALSCALE:GREGORIAN
BEGIN:VEVENT
DTSTART:20211203T210000Z
DTEND:20211204T010000Z
X-MICROSOFT-CDO-ALLDAYEVENT:FALSE
SUMMARY:West Hartford School of Rock Grand Opening
DESCRIPTION:We know... we've been open for months\, but we're finally holding our official grand opening! There will be a ribbon cutting ceremony with West Hartford Mayor Shari Cantor at 2:30 PM. At 4 PM\, we will be having our "Party in the Parking Lot" with food and beverage vendors\, a performance by our in-house teacher band\, student discounts\, and guided tours of the facility.
X-ALT-DESC;FMTTYPE=text/html:We know... we've been open for months\, but we're finally holding our official grand opening! There will be a ribbon cutting ceremony with West Hartford Mayor Shari Cantor at 2:30 PM. At 4 PM\, we will be having our "Party in the Parking Lot" with food and beverage vendors\, a performance by our in-house teacher band\, student discounts\, and guided tours of the facility.
LOCATION:20 Isham Rd\, West Hartford
UID:e.3150.9292
SEQUENCE:3
DTSTAMP:20260425T175920Z
URL:https://business.whchamber.com/events/details/west-hartford-school-of-rock-grand-opening-9292
END:VEVENT

END:VCALENDAR
