BEGIN:VCALENDAR
VERSION:2.0
PRODID:-//ChamberMaster//Event Calendar 2.0//EN
METHOD:PUBLISH
X-PUBLISHED-TTL:P3D
REFRESH-INTERVAL:P3D
CALSCALE:GREGORIAN
BEGIN:VEVENT
DTSTART:20220119T223000Z
DTEND:20220120T000000Z
X-MICROSOFT-CDO-ALLDAYEVENT:FALSE
SUMMARY:West Hartford Public Schoos Mentor Training Workshop
DESCRIPTION:West Hartford Public Schools Mentor Program is looking for mentors to be a positive adult in a child's life. Adult mentors are needed to provide guidance and support to students throughout the West Hartford schools (K through 12). It doesn't require a lot\, just up to one hour a week during the school year. This small commitment will greatly help a child and be a rewarding experience for you as well. Please consider helping out or pass the information on to someone you know. Every person makes a difference. January is National Mentor Month and the goal is recruit as many adult mentors as possible. Anyone can help make a difference to brighten the future of our young people.
X-ALT-DESC;FMTTYPE=text/html:West Hartford Public Schools Mentor Program is looking for mentors to be a positive adult in a child&rsquo\;s life. Adult mentors are needed to provide guidance and support to students throughout the West Hartford schools (K through 12). It doesn&rsquo\;t require a lot\, just up to one hour a week during the school year. This small commitment will greatly help a child and be a rewarding experience for you as well. Please consider helping out or pass the information on to someone you know. Every person makes a difference. January is National Mentor Month and the goal is recruit as many adult mentors as possible. Anyone can help make a difference to brighten the future of our young people.
LOCATION:Virtual
UID:e.3150.9313
SEQUENCE:3
DTSTAMP:20260425T190930Z
URL:https://business.whchamber.com/events/details/west-hartford-public-schoos-mentor-training-workshop-9313
END:VEVENT

END:VCALENDAR
