BEGIN:VCALENDAR
VERSION:2.0
PRODID:-//ChamberMaster//Event Calendar 2.0//EN
METHOD:PUBLISH
X-PUBLISHED-TTL:P3D
REFRESH-INTERVAL:P3D
CALSCALE:GREGORIAN
BEGIN:VEVENT
DTSTART;VALUE=DATE:20221011
DTEND;VALUE=DATE:20221012
TRANSP:TRANSPARENT
X-MICROSOFT-CDO-ALLDAYEVENT:TRUE
SUMMARY:West Hartford Public Schools - Mentor Program Training Session
DESCRIPTION:The training session (in-person and online options) is hosted by Carol Wilkas\, District Mentor Program Coordinator\, West Hartford Public Schools.\n\n\n\nIn addition to Carol Wilkas\, Dr. Susan G. Weinberger\, aka Dr. Mentor\, will prepare mentors for their experience. Included in the training will be a review of the program's policies and procedures along with tips and strategies for successful mentoring. Susan is the President of the Mentor Consulting Group and a pioneer in the creation of school-based mentoring in America.
X-ALT-DESC;FMTTYPE=text/html:The training session (in-person and online options) is hosted by Carol Wilkas\, District Mentor Program Coordinator\,&nbsp\;West Hartford Public Schools.<br />\n<br />\nIn addition to Carol Wilkas\, Dr. Susan G. Weinberger\, aka Dr. Mentor\, will prepare mentors for their experience. Included in the training will be a review of the program&rsquo\;s policies and procedures along with tips and strategies for successful&nbsp\;mentoring. Susan is the President of the Mentor Consulting Group and a pioneer in the creation of school-based mentoring in America.
LOCATION:West Hartford Town Hall Room 217 50 South Main Street West Hartford
UID:e.3150.11773
SEQUENCE:3
DTSTAMP:20260425T235801Z
URL:https://business.whchamber.com/events/details/west-hartford-public-schools-mentor-program-training-session-11773
END:VEVENT

END:VCALENDAR
