BEGIN:VCALENDAR
VERSION:2.0
PRODID:-//ChamberMaster//Event Calendar 2.0//EN
METHOD:PUBLISH
X-PUBLISHED-TTL:P3D
REFRESH-INTERVAL:P3D
CALSCALE:GREGORIAN
BEGIN:VEVENT
DTSTART:20250325T160000Z
DTEND:20250325T180000Z
X-MICROSOFT-CDO-ALLDAYEVENT:FALSE
SUMMARY:West Hartford Public Schools - Mentor Program Training Session
DESCRIPTION:Have you ever thought about becoming a mentor but weren't sure if it was right for you? Or maybe you're interested in mentoring but don't know where to start. If this sounds like you\, join us for our upcoming training event. The training will cover: ? What mentoring truly means and why it's so valuable ? The amazing benefits of being a mentor ? What's expected when you commit to mentoring ? Inspiring real-life stories from mentors Join us and leave with a better understanding of how you can make a difference in the life of a young person through mentoring. You will be provided everything you need to know about what it means to be a mentor. You'll have the opportunity to ask questions and learn more about mentoring.
X-ALT-DESC;FMTTYPE=text/html:Have you ever thought about becoming a mentor but weren&#39\;t sure if it was right for you? Or maybe you&#39\;re interested in mentoring but don&#39\;t know where to start. If this sounds like you\, join us for our upcoming training event. The training will cover: ? What mentoring truly means and why it&#39\;s so valuable ? The amazing benefits of being a mentor ? What&#39\;s expected when you commit to mentoring ? Inspiring real-life stories from mentors Join us and leave with a better understanding of how you can make a difference in the life of a young person through mentoring. You will be provided everything you need to know about what it means to be a mentor. You&#39\;ll have the opportunity to ask questions and learn more about mentoring.
LOCATION:West Hartford Town Hall - Room 400 50 South Main Street West Hartford
UID:e.3150.15911
SEQUENCE:3
DTSTAMP:20260424T011105Z
URL:https://business.whchamber.com/events/details/west-hartford-public-schools-mentor-program-training-session-03-25-2025-15911
END:VEVENT

END:VCALENDAR
