BEGIN:VCALENDAR
VERSION:2.0
PRODID:-//ChamberMaster//Event Calendar 2.0//EN
METHOD:PUBLISH
X-PUBLISHED-TTL:P3D
REFRESH-INTERVAL:P3D
CALSCALE:GREGORIAN
BEGIN:VEVENT
DTSTART:20240320T160000Z
DTEND:20240320T180000Z
X-MICROSOFT-CDO-ALLDAYEVENT:FALSE
SUMMARY:West Hartford Public Schools - Mentor Program Training
DESCRIPTION:Mentoring 101: Mentor Today\, Make a Difference Tomorrow This session is for prospective mentors who wish to learn more about mentoring and how they can make a difference in the life of a young person. Carol Wilkas\, West Hartford Public Schools   Mentor Program Coordinator/Workshop Facilitator\, will highlight program guidelines and discuss why mentoring is vital in our schools today. In addition\, there will be a special panel of mentors who will share their experiences.
X-ALT-DESC;FMTTYPE=text/html:Mentoring 101: Mentor Today\, Make a Difference Tomorrow This session is for prospective mentors who wish to learn more about mentoring and how they can make a difference in the life of a young person. Carol Wilkas\, West Hartford Public Schools &ndash\; Mentor Program Coordinator/Workshop Facilitator\, will highlight program guidelines and discuss why mentoring is vital in our schools today. In addition\, there will be a special panel of mentors who will share their experiences.
LOCATION:Town Hall - Room 400 West Hartford
UID:e.3150.12957
SEQUENCE:3
DTSTAMP:20260425T000113Z
URL:https://business.whchamber.com/events/details/west-hartford-public-schools-mentor-program-training-12957
END:VEVENT

END:VCALENDAR
