BEGIN:VCALENDAR
VERSION:2.0
PRODID:-//ChamberMaster//Event Calendar 2.0//EN
METHOD:PUBLISH
X-PUBLISHED-TTL:P3D
REFRESH-INTERVAL:P3D
CALSCALE:GREGORIAN
BEGIN:VEVENT
DTSTART:20221020T220000Z
DTEND:20221030T004500Z
X-MICROSOFT-CDO-ALLDAYEVENT:FALSE
SUMMARY:West Hartford Hauntings 2022
DESCRIPTION:Join us for history as you've never heard it before. West Hartford Hauntings\, the Noah Webster House & West Hartford Historical Society's spooky\, theatrical cemetery tour\, returns! Your ghostly guide leads you on a lantern-lit tour of Old North Cemetery where you experience tales of death\, disease\, and real history. Due to some scary content\, it is suggested that participants be age 10 or over. This event sells out\, so book now! We hope to see you among the graves. The lantern-lit tours take place on October 20\, 21\, 22\, 28 & 29 at Old North Cemetery\, 80 North Main Street\, West Hartford\, Connecticut. Tours leave every 15 minutes starting at 6 p.m and run for 45 minutes. Please dress for the weather. The museum would like to thank gold sponsors Reid & Riege\, P.C. and CT Humanities for their support. More info at https://noahwebster.yapsody.com/
X-ALT-DESC;FMTTYPE=text/html:Join us for history as you&rsquo\;ve never heard it before. West Hartford Hauntings\, the Noah Webster House &amp\; West Hartford Historical Society&rsquo\;s spooky\, theatrical cemetery tour\, returns! Your ghostly guide leads you on a lantern-lit tour of Old North Cemetery where you experience tales of death\, disease\, and real history. Due to some scary content\, it is suggested that participants be age 10 or over. This event sells out\, so book now! We hope to see you among the graves. The lantern-lit tours take place on October 20\, 21\, 22\, 28 &amp\; 29 at Old North Cemetery\, 80 North Main Street\, West Hartford\, Connecticut. Tours leave every 15 minutes starting at 6 p.m and run for 45 minutes. Please dress for the weather. The museum would like to thank gold sponsors Reid &amp\; Riege\, P.C. and CT Humanities for their support. More info at https://noahwebster.yapsody.com/
LOCATION:Old North Cemetery 80 N. Main St. West Hartford\, CT 06107
UID:e.3150.10966
SEQUENCE:3
DTSTAMP:20260426T013114Z
URL:https://business.whchamber.com/events/details/west-hartford-hauntings-2022-10966
END:VEVENT

END:VCALENDAR
