BEGIN:VCALENDAR
VERSION:2.0
PRODID:-//ChamberMaster//Event Calendar 2.0//EN
METHOD:PUBLISH
X-PUBLISHED-TTL:P3D
REFRESH-INTERVAL:P3D
CALSCALE:GREGORIAN
BEGIN:VEVENT
DTSTART:20221117T160000Z
DTEND:20221117T200000Z
X-MICROSOFT-CDO-ALLDAYEVENT:FALSE
SUMMARY:Well4Tech Pitch Stage Luncheon
DESCRIPTION:We are honored to invite you\, alongside top investors\, industry leaders\, and big tech representatives\, to our exclusive grand-finale startup demo day luncheon event.\n\nDon't miss a chance to connect with the world's most innovative startups fro around the world!\n\nStartups will each showcase "demo" their product followed by a pitch competition with a selected winner.A business growth program designed to scale\, support and invest in market-ready international startups.\n\nWe have 11 cutting-edge market-ready mental and physical health startups\, which have raised over $10m and generated over $5m in revenues. The startups offer cutting-edge innovation for hospitals\, fitness\, elderly\, cancer\, and medical devices.\n\nWell4Tech is startup growth program led by Arieli Capital and the Bridge Healing Center\, designed to scale and support market-ready wellness startups by connecting them with clients\, partners\, big-tech\, and investors.\n\nOur six graduating companies from the first cohort\, which represented Wellness\, Sport\, Health\, and Education\, have reached a combined valuation of over $42m\, raised over $4m\, and surpassed $2.5m in revenues.\n\n\n\nhttps://www.eventbrite.com/e/well4tech-pitch-stage-luncheon-tickets-458707555647RSVP on EVENTBRITE TODAY
X-ALT-DESC;FMTTYPE=text/html:<p>We are honored to invite you\, alongside top investors\, industry leaders\, and big tech representatives\, to our exclusive grand-finale startup demo day luncheon event.</p>\n\n<p>Don&#39\;t miss a chance to connect with the world&#39\;s most innovative startups fro around the world!</p>\n\n<p>Startups will each showcase &quot\;demo&quot\; their product followed by a pitch competition with a selected winner.A business growth program designed to scale\, support and invest in market-ready international startups.</p>\n\n<p>We have 11 cutting-edge market-ready mental and physical health startups\, which have raised over $10m and generated over $5m in revenues. The startups offer cutting-edge innovation for hospitals\, fitness\, elderly\, cancer\, and medical devices.</p>\n\n<p>Well4Tech is startup growth program led by Arieli Capital and the Bridge Healing Center\, designed to scale and support market-ready wellness startups by connecting them with clients\, partners\, big-tech\, and investors.</p>\n\n<p>Our six graduating companies from the first cohort\, which represented Wellness\, Sport\, Health\, and Education\, have reached a combined valuation of over $42m\, raised over $4m\, and surpassed $2.5m in revenues.<br />\n<br />\n<a href="https://www.eventbrite.com/e/well4tech-pitch-stage-luncheon-tickets-458707555647">https://www.eventbrite.com/e/well4tech-pitch-stage-luncheon-tickets-458707555647</a>RSVP on EVENTBRITE TODAY</p>\n
LOCATION:Mandell JCC 335 Bloomfield Avenue West Hartford\, CT 06117
UID:e.3150.12402
SEQUENCE:3
DTSTAMP:20260425T224203Z
URL:https://business.whchamber.com/events/details/well4tech-pitch-stage-luncheon-12402
END:VEVENT

END:VCALENDAR
