BEGIN:VCALENDAR
VERSION:2.0
PRODID:-//ChamberMaster//Event Calendar 2.0//EN
METHOD:PUBLISH
X-PUBLISHED-TTL:P3D
REFRESH-INTERVAL:P3D
CALSCALE:GREGORIAN
BEGIN:VEVENT
DTSTART:20250405T230000Z
DTEND:20250406T010000Z
X-MICROSOFT-CDO-ALLDAYEVENT:FALSE
SUMMARY:WeGym One Year Anniversary Party!
DESCRIPTION:WeGym One-Year Anniversary Party ??\nJoin us on April 5 at 7 PM as we celebrate one incredible year of WeGym with a night of movement\, mindfulness\, and community! ???\n\nWe're teaming up with Hearts In Hartford to bring you an unforgettable event\, kicking off with a guided meditation to set the tone. Then\, get ready to move with UpBeat Pilates\, a fun and energizing workout! Stick around for snacks\, swag\, and exciting raffles to keep the celebration going.\n\n?? Free for WeGym members | $30 for guests\n\nCome celebrate\, connect\, and sweat with us let's make this anniversary one to remember! ???? #WeGymWeHaTurns1 #StrongerTogether #withwegym
X-ALT-DESC;FMTTYPE=text/html:<span style="color:rgb(0\, 0\, 0)\; font-family:verdana\,arial\,helvetica\,sans-serif\; font-size:14px">WeGym One-Year Anniversary Party ??</span>\n<p>Join us on April 5 at 7 PM as we celebrate one incredible year of WeGym with a night of movement\, mindfulness\, and community! ???</p>\n\n<p>We&#39\;re teaming up with Hearts In Hartford to bring you an unforgettable event\, kicking off with a guided meditation to set the tone. Then\, get ready to move with UpBeat Pilates\, a fun and energizing workout! Stick around for snacks\, swag\, and exciting raffles to keep the celebration going.</p>\n\n<p>?? Free for WeGym members | $30 for guests</p>\n\n<p>Come celebrate\, connect\, and sweat with us&mdash\;let&rsquo\;s make this anniversary one to remember! ???? #WeGymWeHaTurns1 #StrongerTogether #withwegym</p>\n
LOCATION:WeGym 635 New Park Ave\, 2B West Hartford\, CT 06110
UID:e.3150.16550
SEQUENCE:3
DTSTAMP:20260424T065946Z
URL:https://business.whchamber.com/events/details/wegym-one-year-anniversary-party-16550
END:VEVENT

END:VCALENDAR
