BEGIN:VCALENDAR
VERSION:2.0
PRODID:-//ChamberMaster//Event Calendar 2.0//EN
METHOD:PUBLISH
X-PUBLISHED-TTL:P3D
REFRESH-INTERVAL:P3D
CALSCALE:GREGORIAN
BEGIN:VEVENT
DTSTART:20250508T230000Z
DTEND:20250509T020000Z
X-MICROSOFT-CDO-ALLDAYEVENT:FALSE
SUMMARY:Webster's War of the Words Trivia Competition
DESCRIPTION:Join us for an exciting evening of fun and friendly competition at our annual fundraiser benefiting the Noah Webster House & West Hartford Historical Society. This year\, we're adding a unique twist to our event by immersing YOU in a word-based trivia game that will put your knowledge to the test!\n\nDate: Thursday\, May 8\, 2025\, 7 PM -10 PM\n\nVenue: Pond House Caf  at 1555 Asylum Ave\, West Hartford\n\nTickets: https://event.auctria.com/7314a266-867e-4194-a8f5-0c29c050e16a/aa6cd270-8751-11e9-a741-3fcfcb35cbb0 \n\nGather your friends and family to form a team and get ready to challenge other tables throughout the night in a battle of wits and words. Our esteemed Master of Ceremonies\, Peter Sokolowski\, Editor in Chief of Merriam-Webster Dictionary\, will guide you through a series of thought-provoking questions that span realms of language\, history\, and local lore.\n\nThroughout the evening\, teams can earn points and compete for the coveted title of trivia champion. Exciting prizes await the tables that come out on top during the final round\, so bring your A-game and be prepared to showcase your knowledge!\n\nIn addition to the trivia competition\, each guest will enjoy a bountiful meal prepared by the chefs at Pond House Caf . The evening's menu will include a variety of hors d'oeuvres\, pasta dishes\, dinner entrees\, dessert\, coffee\, soda\, and open beer & wine bar. \n\nAuction items will be on display throughout the evening and bidding will be accessible online with your smartphone- we'll help you with this at the event :)\n\nThank you for supporting The Noah Webster House... we look forward to seeing you at War of the Words '25!
X-ALT-DESC;FMTTYPE=text/html:<p><span style="background-color:transparent\; color:rgb(33\, 37\, 41)\; font-family:roboto\,sans-serif\; font-size:12pt">Join us for an exciting evening of fun and friendly competition at our annual fundraiser benefiting the Noah Webster House &amp\; West Hartford Historical Society. This year\, we&rsquo\;re adding a unique twist to our event by immersing YOU in a word-based trivia game that will put your knowledge to the test!</span></p>\n\n<p><strong>Date</strong><span style="background-color:transparent\; color:rgb(68\, 68\, 68)\; font-family:roboto\,sans-serif\; font-size:12pt">:</span><strong> </strong><span style="background-color:transparent\; color:rgb(68\, 68\, 68)\; font-family:roboto\,sans-serif\; font-size:12pt">Thursday\, May 8\, 2025\, 7 PM -10 PM</span></p>\n\n<p><strong>Venue</strong><span style="background-color:transparent\; color:rgb(68\, 68\, 68)\; font-family:roboto\,sans-serif\; font-size:12pt">: Pond House Caf&eacute\; at 1555 Asylum Ave\, West Hartford</span></p>\n\n<p><strong>Tickets:</strong><span style="background-color:transparent\; color:rgb(68\, 68\, 68)\; font-family:roboto\,sans-serif\; font-size:12pt"> </span><a href="https://event.auctria.com/7314a266-867e-4194-a8f5-0c29c050e16a/aa6cd270-8751-11e9-a741-3fcfcb35cbb0" style="text-decoration-line: none\;"><span style="background-color:transparent\; color:rgb(17\, 85\, 204)\; font-family:roboto\,sans-serif\; font-size:12pt">https://event.auctria.com/7314a266-867e-4194-a8f5-0c29c050e16a/aa6cd270-8751-11e9-a741-3fcfcb35cbb0</span></a><span style="background-color:transparent\; color:rgb(68\, 68\, 68)\; font-family:roboto\,sans-serif\; font-size:12pt">&nbsp\;</span></p>\n\n<p><span style="background-color:transparent\; color:rgb(68\, 68\, 68)\; font-family:roboto\,sans-serif\; font-size:12pt">Gather your friends and family to form a team and get ready to challenge other tables throughout the night in a battle of wits and words. Our esteemed Master of Ceremonies\, </span><strong>Peter Sokolowski</strong><span style="background-color:transparent\; color:rgb(68\, 68\, 68)\; font-family:roboto\,sans-serif\; font-size:12pt">\, Editor in Chief of </span><em>Merriam-Webster Dictionary</em><span style="background-color:transparent\; color:rgb(68\, 68\, 68)\; font-family:roboto\,sans-serif\; font-size:12pt">\, will guide you through a series of thought-provoking questions that span realms of language\, history\, and local lore.</span></p>\n\n<p><span style="background-color:transparent\; color:rgb(68\, 68\, 68)\; font-family:roboto\,sans-serif\; font-size:12pt">Throughout the evening\, teams can earn points and compete for the coveted title of trivia champion. Exciting prizes await the tables that come out on top during the final round\, so bring your A-game and be prepared to showcase your knowledge!</span></p>\n\n<p><strong>In addition to the trivia competition\, each guest will enjoy a bountiful meal prepared by the chefs at Pond House Caf&eacute\;. The evening&#39\;s menu will include a variety of hors d&#39\;oeuvres\, pasta dishes\, dinner entrees\, dessert\, coffee\, soda\, and </strong><strong>open beer &amp\; wine bar</strong><strong>.&nbsp\;</strong></p>\n\n<p><strong>Auction items will be on display throughout the evening and bidding will be accessible online with your smartphone- we&#39\;ll help you with this at the event :)</strong></p>\n\n<p><span style="background-color:transparent\; color:rgb(33\, 37\, 41)\; font-family:roboto\,sans-serif\; font-size:12pt">Thank you for supporting The Noah Webster House... we look forward to seeing you at </span><strong>War of the Words &#39\;25</strong><span style="background-color:transparent\; color:rgb(33\, 37\, 41)\; font-family:roboto\,sans-serif\; font-size:12pt">!</span></p>\n\n<div>&nbsp\;</div>\n
LOCATION:Pond House Caf at 1555 Asylum Ave\, West Hartford
UID:e.3150.16611
SEQUENCE:3
DTSTAMP:20260424T083329Z
URL:https://business.whchamber.com/events/details/webster-s-war-of-the-words-trivia-competition-16611
END:VEVENT

END:VCALENDAR
