BEGIN:VCALENDAR
VERSION:2.0
PRODID:-//ChamberMaster//Event Calendar 2.0//EN
METHOD:PUBLISH
X-PUBLISHED-TTL:P3D
REFRESH-INTERVAL:P3D
CALSCALE:GREGORIAN
BEGIN:VEVENT
DTSTART:20230615T220000Z
DTEND:20230616T013000Z
X-MICROSOFT-CDO-ALLDAYEVENT:FALSE
SUMMARY:Webster’s Bitch Young Professionals Night at Playhouse on Park
DESCRIPTION:Webster's Bitch Young Professionals Night at Playhouse on Park 35 and under Thursday\, June 15th Playhouse on Park 244 Park Road\, West Hartford A pre-show wine and cheese reception at 6:00pm\, and a performance of Webster's Bitch @ 7:30PM. By Jacqueline Bircher Directed by Vanessa Morosco Webster's Bitch is an office comedy about vulgar words & the people who define them . For more information about the production\, please visit https://www.playhouseonpark.org $25 Per Ticket Tickets available by calling the box office at (860)523-5900\, ext. 10\, or online at https://www.playhouseonpark.org.
X-ALT-DESC;FMTTYPE=text/html:Webster&rsquo\;s Bitch Young Professionals Night at Playhouse on Park 35 and under Thursday\, June 15th Playhouse on Park 244 Park Road\, West Hartford A pre-show wine and cheese reception at 6:00pm\, and a performance of Webster&#39\;s Bitch @ 7:30PM. By Jacqueline Bircher Directed by Vanessa Morosco Webster&#39\;s Bitch is an office comedy about vulgar words &amp\; the people who define them . For more information about the production\, please visit https://www.playhouseonpark.org $25 Per Ticket Tickets available by calling the box office at (860)523-5900\, ext. 10\, or online at https://www.playhouseonpark.org.
LOCATION:Playhouse on Park 244 Park Road\, West Hartford\, CT\, 06119
UID:e.3150.12596
SEQUENCE:3
DTSTAMP:20260425T133103Z
URL:https://business.whchamber.com/events/details/webster-s-bitch-young-professionals-night-at-playhouse-on-park-12596
END:VEVENT

END:VCALENDAR
