BEGIN:VCALENDAR
VERSION:2.0
PRODID:-//ChamberMaster//Event Calendar 2.0//EN
METHOD:PUBLISH
X-PUBLISHED-TTL:P3D
REFRESH-INTERVAL:P3D
CALSCALE:GREGORIAN
BEGIN:VEVENT
DTSTART:20250110T140000Z
DTEND:20250110T160000Z
X-MICROSOFT-CDO-ALLDAYEVENT:FALSE
SUMMARY:Watkinson School Info Session
DESCRIPTION:Watkinson has had another record-breaking year! For the second year in a row\, 94% of Watkinson families said YES to returning this year. These are our highest retention rates in 40 years. Not only is this historic for Watkinson\, but this also far surpasses the current national trend (88% according to the National Association of Independent Schools). Our high retention rate signifies the pride and satisfaction our parents and students have about their Watkinson experiences.\n\nCome see for yourself at our next info session. We can't wait to meet you! You can introduce yourself to Watkinson by attending an info session and/or taking a private tour.\n\nAn Info Session is an excellent way to get a sense of what Watkinson has to offer. Info sessions include:\n\n\n\n\n\n\n	Welcome with Head of School Teri Schrader and Director of Admission John Crosson\n	Hear from faculty and administrators\n	Q & A panel with current students\n	Campus tour (in-person only)
X-ALT-DESC;FMTTYPE=text/html:<div>\n<div>\n<p>Watkinson has had another record-breaking year! For the second year in a row\, 94% of Watkinson families said YES to returning this year. These are our highest retention rates in 40 years. Not only is this historic for Watkinson\, but this also far surpasses the current national trend (88% according to the National Association of Independent Schools). Our high retention rate signifies the pride and satisfaction our parents and students have about their Watkinson experiences.</p>\n\n<p>Come see for yourself at our next info session. We can&rsquo\;t wait to meet you! You can introduce yourself to Watkinson by attending an info session and/or taking a private tour.</p>\n\n<p>An Info Session is an excellent way to get a sense of what Watkinson has to offer. Info sessions include:</p>\n</div>\n</div>\n\n<div>\n<div>\n<ul>\n	<li>Welcome with Head of School Teri Schrader and Director of Admission John Crosson</li>\n	<li>Hear from faculty and administrators</li>\n	<li>Q &amp\; A panel with current students</li>\n	<li>Campus tour (in-person only)</li>\n</ul>\n</div>\n</div>\n\n<div>\n<p>&nbsp\;</p>\n</div>\n
LOCATION:180 Bloomfield Avenue Hartford\, CT 06105
UID:e.3150.15756
SEQUENCE:3
DTSTAMP:20260424T053747Z
URL:https://business.whchamber.com/events/details/watkinson-school-info-session-15756
END:VEVENT

END:VCALENDAR
