BEGIN:VCALENDAR
VERSION:2.0
PRODID:-//ChamberMaster//Event Calendar 2.0//EN
METHOD:PUBLISH
X-PUBLISHED-TTL:P3D
REFRESH-INTERVAL:P3D
CALSCALE:GREGORIAN
BEGIN:VEVENT
DTSTART:20250207T140000Z
DTEND:20250207T160000Z
X-MICROSOFT-CDO-ALLDAYEVENT:FALSE
SUMMARY:Watkinson School Info Session
DESCRIPTION:An Info Session is an excellent way to get a sense of what Watkinson has to offer. Info sessions include:\n\n\n\n\n\n\n	Welcome with Head of School Teri Schrader and Director of Admission John Crosson\n	Hear from faculty and administrators\n	Q & A panel with current students\n	Campus tour
X-ALT-DESC;FMTTYPE=text/html:<div>\n<div>\n<p>An Info Session is an excellent way to get a sense of what Watkinson has to offer. Info sessions include:</p>\n</div>\n</div>\n\n<div>\n<div>\n<ul>\n	<li>Welcome with Head of School Teri Schrader and Director of Admission John Crosson</li>\n	<li>Hear from faculty and administrators</li>\n	<li>Q &amp\; A panel with current students</li>\n	<li>Campus tour</li>\n</ul>\n</div>\n</div>\n
LOCATION:180 Bloomfield Avenue\, Hartford\, CT 06105
UID:e.3150.15824
SEQUENCE:3
DTSTAMP:20260424T024945Z
URL:https://business.whchamber.com/events/details/watkinson-school-info-session-02-07-2025-15824
END:VEVENT

END:VCALENDAR
