BEGIN:VCALENDAR
VERSION:2.0
PRODID:-//ChamberMaster//Event Calendar 2.0//EN
METHOD:PUBLISH
X-PUBLISHED-TTL:P3D
REFRESH-INTERVAL:P3D
CALSCALE:GREGORIAN
BEGIN:VEVENT
DTSTART:20221208T220000Z
DTEND:20221208T230000Z
X-MICROSOFT-CDO-ALLDAYEVENT:FALSE
SUMMARY:"Visual Thoughts" Images of Current Events\, an exhibition featuring the work of freelance photographer and digital artist H. Robert Thiesfield\, Photographer
DESCRIPTION:Local Photographer and Artist Displays Work at the University of Saint Joseph \n\n\n\nThe University of Saint Joseph in West Hartford is pleased to present "Visual Thoughts" Images of Current Events\, an exhibition featuring the work of freelance photographer and digital artist H. Robert Thiesfield\, Photographer on view until the end of the year. The artist will be available to discuss his Social Commentary images on December 8\, 2022\, from 5-6 p.m. in McGovern Hall on the campus of the University of Saint Joseph located at 1678 Asylum Ave. West Hartford\, CT 06117. \n\n\n\nThiesfield has been viewing life through a unique lens all life. Born in Queens\, New York\, Robert spent his early years in Haiti\, until his family was forced to flee from the island nation's violent and oppressive regime of Francois (Papa Doc) Duvalier. He was drafted from Brooklyn College CUNY\, served in Vietnam\, and attended the Germain School of Photography in Manhattan on his return. After more than 25 years as a freelance photographer\, Thiesfield's work is represented in Corporate and Private Collections. Thiesfield is a photographer\, and his company is H. Robert Thiesfield\, Photographer\, located in Rocky Hill\, Connecticut. \n\n\n\nThiesfield is currently participating in the "Perspectives of Heritage" group exhibition at Workspace Gallery\, Manchester Conn. and an ongoing project called "Connecticut Towns." \n\n\n\nLearn more about Thiesfield and his artwork at www.thiesfield.com
X-ALT-DESC;FMTTYPE=text/html:<div>\n<p><strong>Local Photographer and Artist Displays Work at the University of Saint Joseph</strong><span style="font-family:calibri\,calibri_embeddedfont\,calibri_msfontservice\,sans-serif\; font-size:12pt">&nbsp\;</span></p>\n</div>\n\n<div>\n<p><span style="font-family:calibri\,calibri_embeddedfont\,calibri_msfontservice\,sans-serif\; font-size:11pt">The University of Saint Joseph in West Hartford is pleased to present </span><span style="font-family:calibri\,calibri_embeddedfont\,calibri_msfontservice\,sans-serif\; font-size:11pt">&quot\;Visual Thoughts&quot\; Images of Current Events\, </span><span style="font-family:calibri\,calibri_embeddedfont\,calibri_msfontservice\,sans-serif\; font-size:11pt">an exhibition featuring the work of f</span><span style="color:rgb(36\, 36\, 36)\; font-family:calibri\,calibri_embeddedfont\,calibri_msfontservice\,sans-serif\; font-size:11pt">reelance photographer and digital artist</span><span style="font-family:calibri\,calibri_embeddedfont\,calibri_msfontservice\,sans-serif\; font-size:11pt"> H. Robert Thiesfield\, Photographer on view until the end of the year. The artist will be available to discuss his Social Commentary images on December 8\, 2022\, from 5-6 p.m. in McGovern Hall on the campus of the University of Saint Joseph located at 1678 Asylum Ave. West Hartford\, CT 06117.</span><span style="font-family:calibri\,calibri_embeddedfont\,calibri_msfontservice\,sans-serif\; font-size:11pt">&nbsp\;</span></p>\n</div>\n\n<div>\n<p><span style="font-family:calibri\,calibri_embeddedfont\,calibri_msfontservice\,sans-serif\; font-size:11pt">Thiesfield has been viewing life through a unique lens all life. Born in Queens\, New York\, Robert spent his early years in Haiti\, until his family was forced to flee from the island nation&rsquo\;s violent and oppressive regime of Francois (Papa Doc) Duvalier. He was drafted from Brooklyn College CUNY\, served in Vietnam\, and attended the Germain School of Photography in Manhattan on his return. After more than 25 years as a freelance photographer\, Thiesfield&rsquo\;s work is represented in Corporate and Private Collections. Thiesfield is a photographer\, and his company is H. Robert Thiesfield\, Photographer\, located in Rocky Hill\, Connecticut.</span><span style="font-family:calibri\,calibri_embeddedfont\,calibri_msfontservice\,sans-serif\; font-size:11pt">&nbsp\;</span></p>\n</div>\n\n<div>\n<p><span style="font-family:calibri\,calibri_embeddedfont\,calibri_msfontservice\,sans-serif\; font-size:11pt">Thiesfield is c</span><span style="color:rgb(36\, 36\, 36)\; font-family:calibri\,calibri_embeddedfont\,calibri_msfontservice\,sans-serif\; font-size:11pt">urrently participating in the &ldquo\;Perspectives of Heritage&rdquo\; group exhibition at Workspace Gallery\, Manchester Conn. and an ongoing project called &ldquo\;Connecticut Towns.&rdquo\;</span><span style="color:rgb(36\, 36\, 36)\; font-family:calibri\,calibri_embeddedfont\,calibri_msfontservice\,sans-serif\; font-size:11pt">&nbsp\;</span></p>\n</div>\n\n<div>\n<p><span style="font-family:calibri\,calibri_embeddedfont\,calibri_msfontservice\,sans-serif\; font-size:11pt">Learn more about Thiesfield and his artwork at </span><a class="Hyperlink SCXW58265157 BCX0" href="http://www.thiesfield.com/" rel="noreferrer noopener" style="margin: 0px\; padding: 0px\; user-select: text\; -webkit-user-drag: none\; -webkit-tap-highlight-color: transparent\; text-decoration-line: none\; color: inherit\;" target="_blank"><span style="color:rgb(5\, 99\, 193)\; font-family:calibri\,calibri_embeddedfont\,calibri_msfontservice\,sans-serif\; font-size:11pt">www.thiesfield.com</span></a><span style="font-family:calibri\,calibri_embeddedfont\,calibri_msfontservice\,sans-serif\; font-size:11pt">&nbsp\;</span></p>\n</div>\n\n<div>\n<p><span style="font-family:calibri\,calibri_embeddedfont\,calibri_msfontservice\,sans-serif\; font-size:11pt">&nbsp\;</span></p>\n</div>\n
LOCATION:McGovern Hall on the campus of the University of Saint Joseph located at 1678 Asylum Ave. West Hartford\, CT 06117.
UID:e.3150.12424
SEQUENCE:3
DTSTAMP:20260425T211421Z
URL:https://business.whchamber.com/events/details/visual-thoughts-images-of-current-events-an-exhibition-featuring-the-work-of-freelance-photographer-and-digital-artist-h-robert-thiesfield-photographer-12424
END:VEVENT

END:VCALENDAR
