BEGIN:VCALENDAR
VERSION:2.0
PRODID:-//ChamberMaster//Event Calendar 2.0//EN
METHOD:PUBLISH
X-PUBLISHED-TTL:P3D
REFRESH-INTERVAL:P3D
CALSCALE:GREGORIAN
BEGIN:VEVENT
DTSTART:20240319T223000Z
DTEND:20240320T000000Z
X-MICROSOFT-CDO-ALLDAYEVENT:FALSE
SUMMARY:Virtual MSGH Positive Parenting Course
DESCRIPTION:"Leave me alone!" "You can't make me!" "You never let me!" Parents\, do any of these scenarios sound familiar? You've made it through your child's toddlerhood\, you are feeling pretty good about your parenting skills during the early to mid-elementary years\, and then the hormones kick in. What can we do next?!\n\n \n\nVirtually join Jacki Romano for this 4-week Positive Parenting Class and learn new ways to manage your child's behaviors during these tumultuous years. Jacki Romano has been teaching parenting workshops on a regular basis since the 1990's\, and Positive Parenting Classes\, in particular\, since 2000. She has presented countless workshops for parents\, teachers\, school administrators\, PTA's and Women's Clubs nationally.\n\n \n\nThe following topics (and much more) will be covered:\n\n	Media exposure and how to handle it\n	Cell phone usage\n	Talking about sex\n	How to keep lines of communication open\n	How the brain changes through adolescence\n	Homework
X-ALT-DESC;FMTTYPE=text/html:<strong>&ldquo\;Leave me alone!&rdquo\;&nbsp\;&ldquo\;You can&rsquo\;t make me!&rdquo\; &quot\;You never let me!&quot\;</strong> Parents\, do any of these scenarios&nbsp\;sound familiar? You&rsquo\;ve made it through your child&rsquo\;s toddlerhood\, you are feeling pretty good about your parenting skills during the early to mid-elementary years\, and then the hormones kick in. <em>What can we do next?!</em><br />\n&nbsp\;<br />\nVirtually join Jacki Romano for this 4-week Positive Parenting Class and learn new ways to manage your child&rsquo\;s behaviors during these tumultuous years.&nbsp\;Jacki Romano has been teaching parenting workshops on a regular basis since the 1990&rsquo\;s\, and Positive Parenting Classes\, in particular\, since 2000. She has presented countless workshops for parents\, teachers\, school administrators\, PTA&rsquo\;s and Women&rsquo\;s Clubs nationally.<br />\n&nbsp\;<br />\n<em><strong>The following topics (and much more) will be covered:</strong></em>\n<ul>\n	<li><strong>Media exposure and how to handle it</strong></li>\n	<li><strong>Cell phone usage</strong></li>\n	<li><strong>Talking about sex</strong></li>\n	<li><strong>How to keep lines of communication open</strong></li>\n	<li><strong>How the brain changes through adolescence</strong></li>\n	<li><strong>Homework</strong></li>\n</ul>\n
LOCATION:Virtually
UID:e.3150.12751
SEQUENCE:3
DTSTAMP:20260424T222623Z
URL:https://business.whchamber.com/events/details/virtual-msgh-positive-parenting-course-12751
END:VEVENT

END:VCALENDAR
