BEGIN:VCALENDAR
VERSION:2.0
PRODID:-//ChamberMaster//Event Calendar 2.0//EN
METHOD:PUBLISH
X-PUBLISHED-TTL:P3D
REFRESH-INTERVAL:P3D
CALSCALE:GREGORIAN
BEGIN:VEVENT
DTSTART:20240809T160000Z
DTEND:20240809T170000Z
X-MICROSOFT-CDO-ALLDAYEVENT:FALSE
SUMMARY:University of Saint Joseph MSW Information Session
DESCRIPTION:Virtual Information Session to learn more about the Master of Social Work Hybrid and Remote Weeknight and Saturday course offerings.
X-ALT-DESC;FMTTYPE=text/html:Virtual Information Session to learn more about the Master of Social Work Hybrid and Remote Weeknight and Saturday course offerings.
LOCATION:https://forms.office.com/Pages/ResponsePage.aspx?id=wtTLDNeprEqxNdv95BDg4LyF7S_xk_FEihsULIEXr5ZUOVlIU1NLTU9XUlhDOVU4MkdENE02OUFERy4u
UID:e.3150.15230
SEQUENCE:3
DTSTAMP:20260424T162653Z
URL:https://business.whchamber.com/events/details/university-of-saint-joseph-msw-information-session-15230
END:VEVENT

END:VCALENDAR
