BEGIN:VCALENDAR
VERSION:2.0
PRODID:-//ChamberMaster//Event Calendar 2.0//EN
METHOD:PUBLISH
X-PUBLISHED-TTL:P3D
REFRESH-INTERVAL:P3D
CALSCALE:GREGORIAN
BEGIN:VEVENT
DTSTART:20230420T210000Z
DTEND:20230420T233000Z
X-MICROSOFT-CDO-ALLDAYEVENT:FALSE
SUMMARY:University of Saint Joseph Graduate Programs Open House
DESCRIPTION:University of Saint Joseph(USJ) Graduate Programs Open House\n\nThursday\, April 20\, 2023 at 5-7:30 p.m\n\nUniversity of Saint Joseph\n\nCrystal Room\, Mercy Hall\n\n1678 Asylum Ave\n\nWest Hartford\, CT 06117\n\n \n\nAt the USJ Graduate Programs Open House\, you will have the opportunity to engage with various departments on campus including\, Admissions\, Student Financial Services\, Registrar\, Accessibility Services\, Counseling & Wellness\, and many more! Program directors and faculty will be available for break-out sessions enabling you to learn more about your program of interest with other prospective students. Refreshments will be served.
X-ALT-DESC;FMTTYPE=text/html:<h1>University of Saint Joseph(USJ) Graduate Programs Open House</h1>\n\n<p>Thursday\, April 20\, 2023 at 5-7:30 p.m</p>\n\n<p>University of Saint Joseph<br />\nCrystal Room\, Mercy Hall<br />\n1678 Asylum Ave<br />\nWest Hartford\, CT 06117<br />\n&nbsp\;</p>\n\n<div>At the USJ Graduate Programs Open House\, you will have the opportunity to engage with various departments on campus including\, Admissions\, Student Financial Services\, Registrar\, Accessibility Services\, Counseling &amp\; Wellness\, and many more! Program directors and faculty will be available for break-out sessions enabling you to learn more about your program of interest with other prospective students. Refreshments will be served.&nbsp\;</div>\n
LOCATION:University of Saint Joseph Crystal Room\, Mercy Hall 1678 Asylum Ave West Hartford\, CT 06117
UID:e.3150.12509
SEQUENCE:3
DTSTAMP:20260425T151753Z
URL:https://business.whchamber.com/events/details/university-of-saint-joseph-graduate-programs-open-house-12509
END:VEVENT

END:VCALENDAR
