BEGIN:VCALENDAR
VERSION:2.0
PRODID:-//ChamberMaster//Event Calendar 2.0//EN
METHOD:PUBLISH
X-PUBLISHED-TTL:P3D
REFRESH-INTERVAL:P3D
CALSCALE:GREGORIAN
BEGIN:VEVENT
DTSTART:20221022T133000Z
DTEND:20221022T173000Z
X-MICROSOFT-CDO-ALLDAYEVENT:FALSE
SUMMARY:University of Saint Joseph Fall Open House
DESCRIPTION:Saturday\, October 22\, 2022 at 9:30 a.m. until 1:30 p.m.\n\nUniversity Of Saint Joseph\n\nBruyette Athenaeum\n\n1678 Asylum Ave\n\nWest Hartford\, CT 06117\n\nVisit the University of Saint Joseph on Saturday\, October 22 for our annual Fall Open House! You will hear directly from faculty members\, current students\, admissions and financial aid counselors\, student affairs and many more members of the USJ campus community! You will have the opportunity to interact and ask questions in-person at this highly anticipated fall event! \n\n\n\nRegister at http://www.usj.edu/visitus
X-ALT-DESC;FMTTYPE=text/html:<p>Saturday\, October 22\, 2022 at 9:30 a.m. until 1:30 p.m.</p>\n\n<p>University Of Saint Joseph<br />\nBruyette Athenaeum<br />\n1678 Asylum Ave<br />\nWest Hartford\, CT 06117</p>\n\n<div>Visit the University of Saint Joseph on Saturday\, October 22 for our annual Fall Open House! You will hear directly from faculty members\, current students\, admissions and financial aid counselors\, student affairs and many more members of the USJ campus community! You will have the opportunity to interact and ask questions in-person at this highly anticipated fall event!&nbsp\;<br />\n<br />\n<strong>Register at&nbsp\;<a href="http://www.usj.edu/visitus">http://www.usj.edu/visitus</a></strong></div>\n\n<div>&nbsp\;</div>\n\n<div>&nbsp\;</div>\n\n<div>\n<div>\n<div>\n<div>\n<div>\n<div>&nbsp\;</div>\n</div>\n</div>\n</div>\n</div>\n</div>\n
LOCATION:University Of Saint Joseph Bruyette Athenaeum 1678 Asylum Ave West Hartford\, CT 06117
UID:e.3150.11772
SEQUENCE:3
DTSTAMP:20260426T002048Z
URL:https://business.whchamber.com/events/details/university-of-saint-joseph-fall-open-house-11772
END:VEVENT

END:VCALENDAR
