BEGIN:VCALENDAR
VERSION:2.0
PRODID:-//ChamberMaster//Event Calendar 2.0//EN
METHOD:PUBLISH
X-PUBLISHED-TTL:P3D
REFRESH-INTERVAL:P3D
CALSCALE:GREGORIAN
BEGIN:VEVENT
DTSTART:20240206T230000Z
DTEND:20240207T003000Z
X-MICROSOFT-CDO-ALLDAYEVENT:FALSE
SUMMARY:Understanding and Bulding Your Credit\, Presented by American Eagle Financial Credit Union
DESCRIPTION:A free in-person seminar\, Understanding and Building Credit\, hosted by American Eagle Financial Credit Union. Topics will include the importance of good credit\, Credit scores and reports\, Creating a budget\, Healthy spending habits\, and Debt management.\n\n\n\nJoin our featured speakers for this FREE seminar. We will also have staff available to answer your questions regarding accounts and services at AEFCU.\n\nRegister for this FREE seminar HERE
X-ALT-DESC;FMTTYPE=text/html:<h2><span style="font-family:cabin\,helvetica neue\,helvetica\,arial\,sans-serif">A free in-person seminar\,&nbsp\;</span><strong><em><a href="https://www.americaneagle.org/creditseminareasthartford">Understanding and Building Credit</a>\,&nbsp\;</em></strong><span style="font-family:cabin\,helvetica neue\,helvetica\,arial\,sans-serif">hosted by American Eagle Financial Credit Union. Topics will include&nbsp\;</span>the importance of good credit\, Credit scores and reports\, Creating a budget\, Healthy spending habits\, and Debt management.<br />\n<br />\n<span style="font-size:18px"><span style="font-family:cabin\,helvetica neue\,helvetica\,arial\,sans-serif">Join&nbsp\;our featured speakers for this&nbsp\;</span><span style="color:rgb(178\, 34\, 34)\; font-family:cabin\,helvetica neue\,helvetica\,arial\,sans-serif"><strong>FREE</strong></span><span style="font-family:cabin\,helvetica neue\,helvetica\,arial\,sans-serif">&nbsp\;seminar. We will also have staff available to answer your questions regarding accounts and services at AEFCU.</span></span></h2>\n\n<h2 style="text-align:center"><a href="https://www.americaneagle.org/creditseminareasthartford"><strong>Register for this FREE seminar HERE</strong></a></h2>\n
LOCATION:American Eagle Financial Center 333 E. River Drive East Hartford\, CT 06108
UID:e.3150.12740
SEQUENCE:3
DTSTAMP:20260425T000415Z
URL:https://business.whchamber.com/events/details/understanding-and-bulding-your-credit-presented-by-american-eagle-financial-credit-union-12740
END:VEVENT

END:VCALENDAR
