BEGIN:VCALENDAR
VERSION:2.0
PRODID:-//ChamberMaster//Event Calendar 2.0//EN
METHOD:PUBLISH
X-PUBLISHED-TTL:P3D
REFRESH-INTERVAL:P3D
CALSCALE:GREGORIAN
BEGIN:VEVENT
DTSTART:20230428T220000Z
DTEND:20230429T010000Z
X-MICROSOFT-CDO-ALLDAYEVENT:FALSE
SUMMARY:"Ukraine 2 WeHa" Fundraiser hosted by Friends of Feeney
DESCRIPTION:Friends of Feeney is partnering with The Sponsorship Circle of CT Integrated Refugee and Immigrant Services.\n\nThis event will be at New Park Brewery on Friday\, April 28th from 6-9 PM.\n\nThe John Street Band will be performing!\n\n\n\nThe cost is $40 which includes pizza\, one beverage ticket and one Ukrainian bracelet!\n\n \n\nProceeds of this event will help sponsor a family move from Ukraine to West Hartford.\n\n \n\nFunds will be used for housing\, transportation and household expenses.
X-ALT-DESC;FMTTYPE=text/html:<div>Friends of Feeney is partnering with The Sponsorship Circle of CT Integrated Refugee and Immigrant Services.</div>\n\n<div>This event will be at New Park Brewery on Friday\, April 28th from 6-9 PM.<br />\nThe John Street Band will be performing!<br />\n<br />\nThe cost is $40 which includes pizza\, one beverage ticket and one Ukrainian bracelet!<br />\n&nbsp\;</div>\n\n<div>Proceeds of this event will help sponsor a family move from Ukraine to West Hartford.<br />\n&nbsp\;</div>\n\n<div>Funds will be used for housing\, transportation and household expenses.</div>\n
LOCATION:New Park Brewing 485 New Park Ave West Hartford\, CT
UID:e.3150.12549
SEQUENCE:3
DTSTAMP:20260425T152020Z
URL:https://business.whchamber.com/events/details/ukraine-2-weha-fundraiser-hosted-by-friends-of-feeney-12549
END:VEVENT

END:VCALENDAR
