BEGIN:VCALENDAR
VERSION:2.0
PRODID:-//ChamberMaster//Event Calendar 2.0//EN
METHOD:PUBLISH
X-PUBLISHED-TTL:P3D
REFRESH-INTERVAL:P3D
CALSCALE:GREGORIAN
BEGIN:VEVENT
DTSTART:20241028T200000Z
DTEND:20241028T220000Z
X-MICROSOFT-CDO-ALLDAYEVENT:FALSE
SUMMARY:Truck & Treat
DESCRIPTION:Trick or Treat in Madonna Hall\, then visit the Touch-A-Truck event in the X-Lot!
X-ALT-DESC;FMTTYPE=text/html:Trick or Treat in Madonna Hall\, then visit the Touch-A-Truck event in the X-Lot!
LOCATION:University of Saint Joseph 1678 Asylum Ave West Hartford
UID:e.3150.15287
SEQUENCE:3
DTSTAMP:20260424T134551Z
URL:https://business.whchamber.com/events/details/truck-treat-15287
END:VEVENT

END:VCALENDAR
