BEGIN:VCALENDAR
VERSION:2.0
PRODID:-//ChamberMaster//Event Calendar 2.0//EN
METHOD:PUBLISH
X-PUBLISHED-TTL:P3D
REFRESH-INTERVAL:P3D
CALSCALE:GREGORIAN
BEGIN:VEVENT
DTSTART:20260319T220000Z
DTEND:20260319T233000Z
X-MICROSOFT-CDO-ALLDAYEVENT:FALSE
SUMMARY:Trivia Night: Y2K Edition
DESCRIPTION:Think you know everything about the Y2K era? Dust off your low-rise jeans and head to the Museum for a night of trivia all about the 2000s! That's right\, the decade that brought us Shrek\, The Office\, and iPods. Fetch prizes for winning teams (yes\, we're making fetch happen.) Snacks\, soft drinks\, and complementary wine and beer included with your admission. Teams limited to 6 people. Our emcee for this event will be the one and only Chion Wolf of CT Public! Tickets $20 General Admission $15 for Connecticut Museum Member levels under $150 Free for Connecticut Museum Member levels $150 and above
X-ALT-DESC;FMTTYPE=text/html:Think you know everything about the Y2K era? Dust off your low-rise jeans and head to the Museum for a night of trivia all about the 2000s! That&rsquo\;s right\, the decade that brought us Shrek\, The Office\, and iPods. Fetch prizes for winning teams (yes\, we&rsquo\;re making fetch happen.) Snacks\, soft drinks\, and complementary wine and beer included with your admission. Teams limited to 6 people. Our emcee for this event will be the one and only Chion Wolf of CT Public! Tickets $20 General Admission $15 for Connecticut Museum Member levels under $150 Free for Connecticut Museum Member levels $150 and above
LOCATION:Connecticut Museum of Culture and History\, 1 Elizabeth Street\, Hartford\, CT 06105
UID:e.3150.17077
SEQUENCE:3
DTSTAMP:20260425T143404Z
URL:https://business.whchamber.com/events/details/trivia-night-y2k-edition-17077
END:VEVENT

END:VCALENDAR
