BEGIN:VCALENDAR
VERSION:2.0
PRODID:-//ChamberMaster//Event Calendar 2.0//EN
METHOD:PUBLISH
X-PUBLISHED-TTL:P3D
REFRESH-INTERVAL:P3D
CALSCALE:GREGORIAN
BEGIN:VEVENT
DTSTART:20250205T233000Z
DTEND:20250206T003000Z
X-MICROSOFT-CDO-ALLDAYEVENT:FALSE
SUMMARY:Traprock Ridge Lecture: The Nature of Wintonbury Hills Golf Course
DESCRIPTION:Bloomfield's Golf Course as a Public Asset By Bradley Klein & Dennis Petruzzelli\, CGCS This PowerPoint presentation shows how the 200 acres of the Bloomfield's golf course are an ecologically sustainable natural asset in terms of open space\, habitat and plant diversity. Widespread benefits accrue to all. Bradley S. Klein is a longtime town resident and nationally recognized golf course journalist and consultant who has written a dozen books on golf design. He is also chair of the town's Golf Committee. Dennis Petruzzelli is a veteran golf superintendent and director of maintenance for Wintonbury Hills GC. Co-sponsored by: Bloomfield Parks\, Recreation and Leisure Services
X-ALT-DESC;FMTTYPE=text/html:Bloomfield&rsquo\;s Golf Course as a Public Asset By Bradley Klein &amp\; Dennis Petruzzelli\, CGCS This PowerPoint presentation shows how the 200 acres of the Bloomfield&rsquo\;s golf course are an ecologically sustainable natural asset in terms of open space\, habitat and plant diversity. Widespread benefits accrue to all. Bradley S. Klein is a longtime town resident and nationally recognized golf course journalist and consultant who has written a dozen books on golf design. He is also chair of the town&rsquo\;s Golf Committee. Dennis Petruzzelli is a veteran golf superintendent and director of maintenance for Wintonbury Hills GC. Co-sponsored by: Bloomfield Parks\, Recreation and Leisure Services
LOCATION:Zoom Go to trlandconservancy.org to sign up and receive webinar link
UID:e.3150.15834
SEQUENCE:3
DTSTAMP:20260424T025450Z
URL:https://business.whchamber.com/events/details/traprock-ridge-lecture-the-nature-of-wintonbury-hills-golf-course-15834
END:VEVENT

END:VCALENDAR
