BEGIN:VCALENDAR
VERSION:2.0
PRODID:-//ChamberMaster//Event Calendar 2.0//EN
METHOD:PUBLISH
X-PUBLISHED-TTL:P3D
REFRESH-INTERVAL:P3D
CALSCALE:GREGORIAN
BEGIN:VEVENT
DTSTART:20260204T233000Z
DTEND:20260205T003000Z
X-MICROSOFT-CDO-ALLDAYEVENT:FALSE
SUMMARY:Traprock Ridge Land Conservancy Nature Lecture: Morticulture - The Abundant Life in Old Dead Trees
DESCRIPTION:Presented by: Margery Winters\, Assistant Director at Roaring Brook Nature Center\n\n\n\nOnce considered a wasted resource and a hazard in forest landscapes\, dead trees and logs are now known to be valuable and essential parts of a healthy forest ecosystem. Learn how they provide habitat and food for many terrestrial and aquatic species\, act as seedbeds for new trees\, and serve as a source of water\, energy\, carbon\, and nutrients for the entire forest. \n\n\n\nMargery is a long-time nature instructor at Roaring Brook Nature Center in Canton where she is delighted to share her passion for earth sciences and nature with students of all ages. Margery currently serves as chair of the Simsbury Conservation Commission\, is a member of the Simsbury Open Space Committee\, and is president of the Simsbury Land Trust. \n\n\n\nCo-sponsored by: Bloomfield Parks\, Recreation and Leisure Services.\n\n\n\nRegister for webinar link: https://bloomfieldct.zoom.us/webinar/register/WN_i6ysR6UqSiK1qC1zhOfQcA#/registration
X-ALT-DESC;FMTTYPE=text/html:<p><em>Presented by: Margery Winters\, Assistant Director at Roaring Brook Nature Cente</em>r<br />\n<br />\nOnce considered a wasted resource and a hazard in forest landscapes\, dead trees and logs are now known to be valuable and essential parts of a healthy forest ecosystem. Learn how they provide habitat and food for many terrestrial and aquatic species\, act as seedbeds for new trees\, and serve as a source of water\, energy\, carbon\, and nutrients for the entire forest.&nbsp\;<br />\n<br />\nMargery is a long-time nature instructor at Roaring Brook Nature Center in Canton where she is delighted to share her passion for earth sciences and nature with students of all ages. Margery currently serves as chair of the Simsbury Conservation Commission\, is a member of the Simsbury Open Space Committee\, and is president of the Simsbury Land Trust.&nbsp\;<br />\n<br />\nCo-sponsored by: Bloomfield Parks\, Recreation and Leisure Services.<br />\n<br />\nRegister for webinar link:&nbsp\;<a href="https://bloomfieldct.zoom.us/webinar/register/WN_i6ysR6UqSiK1qC1zhOfQcA#/registration">https://bloomfieldct.zoom.us/webinar/register/WN_i6ysR6UqSiK1qC1zhOfQcA#/registration</a></p>\n\n<p>&nbsp\;</p>\n
LOCATION:Via zoom
UID:e.3150.16997
SEQUENCE:3
DTSTAMP:20260425T172627Z
URL:https://business.whchamber.com/events/details/traprock-ridge-land-conservancy-nature-lecture-morticulture-the-abundant-life-in-old-dead-trees-16997
END:VEVENT

END:VCALENDAR
