BEGIN:VCALENDAR
VERSION:2.0
PRODID:-//ChamberMaster//Event Calendar 2.0//EN
METHOD:PUBLISH
X-PUBLISHED-TTL:P3D
REFRESH-INTERVAL:P3D
CALSCALE:GREGORIAN
BEGIN:VEVENT
DTSTART:20240218T230000Z
DTEND:20240219T020000Z
X-MICROSOFT-CDO-ALLDAYEVENT:FALSE
SUMMARY:Tracy & Darlene’s 123rd Birthday!
DESCRIPTION:Darlene and Tract both have February birthdays\, and they are throwing a joint birthday party to celebrate and YOU and invited! Sunday\, February 18th\, 2024 6:00 pm - 9:00 pm Playhouse on Park\, 244 Park Road\, West Hartford CT Join us for a night of food\, drink\, fun & games\, and a special reunion cabaret performance by the original Falcetti Four\, featuring Colin Britt on piano! Admission is FREE but you must bring Darlene and Tracy a birthday present from the Playhouse Wishlist! The wishlist can be found on the Donate page at playhouseonpark.org RSVP to the box office at (860) 523-5900 Ext.10 or boxoffice@playhousetheatregroup.org
X-ALT-DESC;FMTTYPE=text/html:Darlene and Tract both have February birthdays\, and they are throwing a joint birthday party to celebrate and YOU and invited! Sunday\, February 18th\, 2024 6:00 pm - 9:00 pm Playhouse on Park\, 244 Park Road\, West Hartford CT Join us for a night of food\, drink\, fun &amp\; games\, and a special reunion cabaret performance by the original Falcetti Four\, featuring Colin Britt on piano! Admission is FREE but you must bring Darlene and Tracy a birthday present from the Playhouse Wishlist! The wishlist can be found on the Donate page at playhouseonpark.org RSVP to the box office at (860) 523-5900 Ext.10 or boxoffice@playhousetheatregroup.org
LOCATION:Playhouse on Park\, 244 Park Road\, West Hartford CT
UID:e.3150.12731
SEQUENCE:3
DTSTAMP:20260425T000112Z
URL:https://business.whchamber.com/events/details/tracy-darlene-s-123rd-birthday-12731
END:VEVENT

END:VCALENDAR
