BEGIN:VCALENDAR
VERSION:2.0
PRODID:-//ChamberMaster//Event Calendar 2.0//EN
METHOD:PUBLISH
X-PUBLISHED-TTL:P3D
REFRESH-INTERVAL:P3D
CALSCALE:GREGORIAN
BEGIN:VEVENT
DTSTART:20211211T180000Z
DTEND:20211211T210000Z
X-MICROSOFT-CDO-ALLDAYEVENT:FALSE
SUMMARY:Toy Drive
DESCRIPTION:On Saturday\, December 11th\, 1-4 PM\, Friends of Feeney is hosting a Toy Drive at Sockstarz on 18 Lasalle Road in West Hartford. We are collecting toys and board games for the Wolcott Caring School Committee.
X-ALT-DESC;FMTTYPE=text/html:<span style="color:rgb(34\, 34\, 34)\; font-family:arial\,helvetica\,sans-serif\; font-size:small">On Saturday\, December 11th\, 1-4 PM\, Friends of Feeney is hosting a Toy Drive at Sockstarz&nbsp\;on 18 Lasalle Road in West Hartford. We are collecting toys and board games for the Wolcott Caring School Committee.&nbsp\;</span>
LOCATION:Sockstarz on 18 Lasalle Road
UID:e.3150.9284
SEQUENCE:3
DTSTAMP:20260425T175456Z
URL:https://business.whchamber.com/events/details/toy-drive-9284
END:VEVENT

END:VCALENDAR
