BEGIN:VCALENDAR
VERSION:2.0
PRODID:-//ChamberMaster//Event Calendar 2.0//EN
METHOD:PUBLISH
X-PUBLISHED-TTL:P3D
REFRESH-INTERVAL:P3D
CALSCALE:GREGORIAN
BEGIN:VEVENT
DTSTART:20221025T210000Z
DTEND:20221025T230000Z
X-MICROSOFT-CDO-ALLDAYEVENT:FALSE
SUMMARY:Title IX: 37 Words for Equity and Justice
DESCRIPTION:Celebrate the 50th Anniversary of Title IX with women leaders in sport\, media\, and law as they reflect on the ESPN film 37 Words.\n\n\n\n\nCelebrate the 50th Anniversary of Title IX with women leaders in sport\, media\, and law as they reflect on the ESPN film 37 Words.\n\n\n\n\nAbout this event:\n\nTitle IX: 37 Words for Equity and Justice Tuesday\, Oct. 25\, 2022\, 5-6 p.m. Networking Event 6-7 p.m. Screen clips from the film 37 Words and hear from panel speakers\n\nThe Women's Leadership Center at the University of Saint Joseph is proud to host this dynamic event\, where we will welcome a panel of powerful women in sport\, media\, and law to discuss clips from the ESPN four-part docuseries 37 Words. The film celebrates the 50th Anniversary of the passage of Title IX\, the 1972 amendment passed by Congress to forbid discrimination based on gender.\n\n"No person in the United States shall\, on the basis of sex\, be excluded from participation in\, be denied the benefits of\, or be subjected to discrimination under any educational program or activity receiving Federal financial assistance."\n\nPanelists and moderators include:\n\n\n	Donna de Varona\, Olympic Gold Medalist in Swimming\, Activist\, Television Sportscaster\n	Leander Dolphin\, Managing Partner\, Shipman & Goodwin LLP\n	Clare Smith Marash\, Producer\, 37 Words\n	Carol Stiff\, President\, Stiff Sports Media Consulting\, LLC\n\n\nBefore the main event\, we invite you to participate in a networking event\, where you can connect with professionals based on your career field of interest. The networking session will take place from 5-6 p.m.\, and light refreshments will be served. We will then move into Hoffman Auditorium to screen clips from the film and hear from our distinguished panel.\n\nRegister today and share this link broadly to continue the journey toward equity and social justice here.
X-ALT-DESC;FMTTYPE=text/html:<h2 style="font-style:italic"><strong>Celebrate the 50th Anniversary of Title IX with women leaders in sport\, media\, and law as they reflect on the ESPN film 37 Words.</strong></h2>\n\n<div>\n<div style="background:none\; border:0px\; padding:0px">\n<div>\n<div>Celebrate the 50th Anniversary of Title IX with women leaders in sport\, media\, and law as they reflect on the ESPN film 37 Words.</div>\n</div>\n</div>\n</div>\n\n<p><strong>About this event:</strong></p>\n\n<p>Title IX: 37 Words for Equity and Justice Tuesday\, Oct. 25\, 2022\, 5-6 p.m. Networking Event 6-7 p.m. Screen clips from the film 37 Words and hear from panel speakers</p>\n\n<p>The Women&#39\;s Leadership Center at the University of Saint Joseph is proud to host this dynamic event\, where we will welcome a panel of powerful women in sport\, media\, and law to discuss clips from the ESPN four-part docuseries 37 Words. The film celebrates the 50th Anniversary of the passage of Title IX\, the 1972 amendment passed by Congress to forbid discrimination based on gender.</p>\n\n<p>&quot\;No person in the United States shall\, on the basis of sex\, be excluded from participation in\, be denied the benefits of\, or be subjected to discrimination under any educational program or activity receiving Federal financial assistance.&quot\;</p>\n\n<p>Panelists and moderators include:</p>\n\n<ul>\n	<li>Donna de Varona\, Olympic Gold Medalist in Swimming\, Activist\, Television Sportscaster</li>\n	<li>Leander Dolphin\, Managing Partner\, Shipman &amp\; Goodwin LLP</li>\n	<li>Clare Smith Marash\, Producer\, 37 Words</li>\n	<li>Carol Stiff\, President\, Stiff Sports Media Consulting\, LLC</li>\n</ul>\n\n<p>Before the main event\, we invite you to participate in a networking event\, where you can connect with professionals based on your career field of interest. The networking session will take place from 5-6 p.m.\, and light refreshments will be served. We will then move into Hoffman Auditorium to screen clips from the film and hear from our distinguished panel.</p>\n\n<p><a href="https://www.eventbrite.com/e/title-ix-37-words-for-equity-and-justice-tickets-418233897847" style="box-sizing: border-box\; margin: 0px\; padding: 0px\; border: 0px\; font: inherit\; vertical-align: baseline\; color: rgb(51\, 122\, 183)\; text-decoration-line: none\;" target="_blank">Register today and share this link broadly to continue the journey toward equity and social justice here</a><a href="https://www.eventbrite.com/e/title-ix-37-words-for-equity-and-justice-tickets-418233897847">.</a></p>\n
LOCATION:University of Saint Joseph 1678 Asylum Ave. West Hartford\, CT 06117 Mercy Hall Crystal Room followed by Hoffman Auditorium
UID:e.3150.11771
SEQUENCE:3
DTSTAMP:20260425T235913Z
URL:https://business.whchamber.com/events/details/title-ix-37-words-for-equity-and-justice-11771
END:VEVENT

END:VCALENDAR
