BEGIN:VCALENDAR
VERSION:2.0
PRODID:-//ChamberMaster//Event Calendar 2.0//EN
METHOD:PUBLISH
X-PUBLISHED-TTL:P3D
REFRESH-INTERVAL:P3D
CALSCALE:GREGORIAN
BEGIN:VEVENT
DTSTART:20241002T233000Z
DTEND:20241020T180000Z
X-MICROSOFT-CDO-ALLDAYEVENT:FALSE
SUMMARY:The Shark Is Broken
DESCRIPTION:This "bitingly funny" comedy centers on the making of the blockbuster film JAWS and enjoyed overwhelming popularity on Broadway and in London's West End. Take a deep dive behind the scenes of a great American movie as its stars\, Richard Dreyfuss\, Roy Scheider and Robert Shaw wrestle with the frustration of constant filming delays because "the shark is broken!" Based on Shaw's journals of the experience\, this "hilariously brilliant" play lets you inside the creative process as it explores rivalry\, anxiety\, addiction\, collaboration\, and the bonds that can form when faced with adverse conditions and a boat that's too small. 95 minutes\, no intermission.
X-ALT-DESC;FMTTYPE=text/html:This &ldquo\;bitingly funny&rdquo\; comedy centers on the making of the blockbuster film JAWS and enjoyed overwhelming popularity on Broadway and in London&rsquo\;s West End. Take a deep dive behind the scenes of a great American movie as its stars\, Richard Dreyfuss\, Roy Scheider and Robert Shaw wrestle with the frustration of constant filming delays because &ldquo\;the shark is broken!&rdquo\; Based on Shaw&rsquo\;s journals of the experience\, this &ldquo\;hilariously brilliant&rdquo\; play lets you inside the creative process as it explores rivalry\, anxiety\, addiction\, collaboration\, and the bonds that can form when faced with adverse conditions and a boat that&rsquo\;s too small. 95 minutes\, no intermission.
LOCATION:Playhouse on Park 244 Park Rd. West Hartford\, CT 06119
UID:e.3150.15707
SEQUENCE:3
DTSTAMP:20260424T134444Z
URL:https://business.whchamber.com/events/details/the-shark-is-broken-15707
END:VEVENT

END:VCALENDAR
