BEGIN:VCALENDAR
VERSION:2.0
PRODID:-//ChamberMaster//Event Calendar 2.0//EN
METHOD:PUBLISH
X-PUBLISHED-TTL:P3D
REFRESH-INTERVAL:P3D
CALSCALE:GREGORIAN
BEGIN:VEVENT
DTSTART:20241008T220000Z
DTEND:20241009T000000Z
X-MICROSOFT-CDO-ALLDAYEVENT:FALSE
SUMMARY:The Results Workshop: Measure\, Celebrate\, Accelerate
DESCRIPTION:Join me for this impactful 2 hour Workshop!\n\nYou will walk away with:\n\nA List of Accomplishments:\n\nTake a moment to CELEBRATE everything you've achieved this year big and small.\n\nCertainty About Your Goals:\n\nGet clear on what you truly want to accomplish before the year wraps up\, and feel confident in your direction.\n\nA Concrete Plan:\n\nWe'll map out the actions you need to take\, so you can accomplish your goals with ease and purpose.
X-ALT-DESC;FMTTYPE=text/html:<p>Join me for this impactful 2 hour Workshop!</p>\n\n<p>You will walk away with:</p>\n\n<h1><span style="font-size:14px"><strong>A List of Accomplishments:</strong></span></h1>\n\n<h1><span style="font-size:14px">Take a moment to CELEBRATE everything you&rsquo\;ve achieved this year&mdash\;big and small.</span></h1>\n\n<h1><span style="font-size:14px"><strong>Certainty About Your Goals:</strong></span></h1>\n\n<h1><span style="font-size:14px">Get clear on what you truly want to accomplish before the year wraps up\, and feel confident in your direction.</span></h1>\n\n<h1><span style="font-size:14px"><strong>A Concrete Plan:</strong></span></h1>\n\n<h1><span style="font-size:14px">We&rsquo\;ll map out the actions you need to take\, so you can accomplish your goals with ease and purpose.</span></h1>\n
LOCATION:The Capture the Concept Office 1789 New Britain Ave\, Farmington\, CT 06032
UID:e.3150.15292
SEQUENCE:3
DTSTAMP:20260424T134551Z
URL:https://business.whchamber.com/events/details/the-results-workshop-measure-celebrate-accelerate-15292
END:VEVENT

END:VCALENDAR
