BEGIN:VCALENDAR
VERSION:2.0
PRODID:-//ChamberMaster//Event Calendar 2.0//EN
METHOD:PUBLISH
X-PUBLISHED-TTL:P3D
REFRESH-INTERVAL:P3D
CALSCALE:GREGORIAN
BEGIN:VEVENT
DTSTART:20240810T173000Z
DTEND:20240810T193000Z
X-MICROSOFT-CDO-ALLDAYEVENT:FALSE
SUMMARY:The One Room Schoolhouse | Life on the Webster Farm: Work Days
DESCRIPTION:August 10   The One Room Schoolhouse\n\nCome and experience what school was like for Noah Webster and his classmates in the 1770s. Visitors will write with quill & ink\, use slates to practice lessons\, and read from Noah's famous "Blue Back Speller" and horn books! Also\, find out what games students would play at recess  come and find out!\n\nVisit the museum on select Saturdays from 1:30 p.m.   3:30 p.m. and enjoy live demonstrations from our experienced team of museum educators. Each demonstration will focus on a unique aspect of early American work and play. Stop by and learn about the trades and activities of life on the Webster farm!\n\nThis program is included in museum admission. Enjoy FREE general admission for children under 12 for this event!\n\nAugust's Work Day will focus on the one room schoolhouse! For more information\, please email events@noahwebsterhouse.org.\n\nThank you to our 2023-2024 Sponsor\, the Rotary Club of West Hartford!
X-ALT-DESC;FMTTYPE=text/html:<p style="margin-left:0px\; margin-right:0px"><strong>August 10 &ndash\; The One Room Schoolhouse</strong></p>\n\n<p style="margin-left:0px\; margin-right:0px">Come and experience what school was like for Noah Webster and his classmates in the 1770s. Visitors will write with quill &amp\; ink\, use slates to practice lessons\, and read from Noah&rsquo\;s famous &ldquo\;Blue Back Speller&rdquo\; and horn books! Also\, find out what games students would play at recess&hellip\; come and find out!</p>\n\n<p style="margin-left:0px\; margin-right:0px">Visit the museum on select Saturdays from 1:30 p.m. &ndash\; 3:30 p.m. and enjoy live demonstrations from our experienced team of museum educators. Each demonstration will focus on a unique aspect of early American work and play. Stop by and learn about the trades and activities of life on the Webster farm!</p>\n\n<p style="margin-left:0px\; margin-right:0px">This program is included in museum admission. Enjoy&nbsp\;<strong>FREE</strong>&nbsp\;general admission for children under 12 for this event!</p>\n\n<p style="margin-left:0px\; margin-right:0px">August&rsquo\;s Work Day will focus on the one room schoolhouse! For more information\, please email events@noahwebsterhouse.org.</p>\n\n<p style="margin-left:0px\; margin-right:0px">Thank you to our 2023-2024 Sponsor\, the Rotary Club of West Hartford!</p>\n
LOCATION:Noah Webster House & West Hartford Historical Society 227 South Main Street\, West Hartford\, CT\, 06107
UID:e.3150.15089
SEQUENCE:3
DTSTAMP:20260424T152558Z
URL:https://business.whchamber.com/events/details/the-one-room-schoolhouse-life-on-the-webster-farm-work-days-15089
END:VEVENT

END:VCALENDAR
