BEGIN:VCALENDAR
VERSION:2.0
PRODID:-//ChamberMaster//Event Calendar 2.0//EN
METHOD:PUBLISH
X-PUBLISHED-TTL:P3D
REFRESH-INTERVAL:P3D
CALSCALE:GREGORIAN
BEGIN:VEVENT
DTSTART:20220111T233000Z
DTEND:20220112T003000Z
X-MICROSOFT-CDO-ALLDAYEVENT:FALSE
SUMMARY:The Mindset & Management of Stress (Virtual Course)
DESCRIPTION:Are you stressed all the time and struggling to manage your everyday stress?\n\nSo many people are stressed 24/7 - but our bodies are not meant to live in this emergency state for an extended period of time. Chronic stress creates illness and\n\ndisease in our bodies.\n\nKate is a certified holistic life coach\, Reiki practitioner\, and is currently studying to become a Certified Meditation Teacher. She has a passion for helping others\, and wants to share the knowledge she has and continues to gain.\n\nThis stress program will teach you:\n\n\n	    The science of stress and your brain?s stress response\n	    How to have awareness of your stress reactions and triggers\n	    How to understand your subconscious mind\, your thoughts\, and feelings\n	    How to incorporate different strategies and take action to take care of your mind\, body\, and spirit to manage your stress.\n\n\nIt's so important to bring your body back to a state of homeostasis after you feel stressed through your breath\, movement\, nourishing your body with healthy foods\, and releasing the feelings of stress.\n\n\n\nRegister online to receive the free link prior to the event: https://westhartford.librarymarket.com/events/mindset-management-stress-virtual
X-ALT-DESC;FMTTYPE=text/html:<p>Are you stressed all the time and struggling to manage your everyday stress?</p>\n\n<p>So many people are stressed 24/7 - but our bodies are not meant to live in this emergency state for an extended period of time. Chronic stress creates illness and<br>\ndisease in our bodies.</p>\n\n<p>Kate is a certified holistic life coach\, Reiki practitioner\, and is currently studying to become a Certified Meditation Teacher. She has a passion for helping others\, and wants to share the knowledge she has and continues to gain.</p>\n\n<p>This stress program will teach you:</p>\n\n<ul>\n	<li>&nbsp\; &nbsp\; The science of stress and your brain?s stress response</li>\n	<li>&nbsp\; &nbsp\; How to have awareness of your stress reactions and triggers</li>\n	<li>&nbsp\; &nbsp\; How to understand your subconscious mind\, your thoughts\, and feelings</li>\n	<li>&nbsp\; &nbsp\; How to incorporate different strategies and take action to take care of your mind\, body\, and spirit to manage your stress.</li>\n</ul>\n\n<p>It's so important to bring your body back to a state of homeostasis after you feel stressed through your breath\, movement\, nourishing your body with healthy foods\, and releasing the feelings of stress.<br>\n<br>\nRegister online to receive the free link prior to the event:&nbsp\;https://westhartford.librarymarket.com/events/mindset-management-stress-virtual</p>\n
LOCATION:Virtual (Zoom)
UID:e.3150.9303
SEQUENCE:3
DTSTAMP:20260425T192226Z
URL:https://business.whchamber.com/events/details/the-mindset-management-of-stress-virtual-course-9303
END:VEVENT

END:VCALENDAR
