BEGIN:VCALENDAR
VERSION:2.0
PRODID:-//ChamberMaster//Event Calendar 2.0//EN
METHOD:PUBLISH
X-PUBLISHED-TTL:P3D
REFRESH-INTERVAL:P3D
CALSCALE:GREGORIAN
BEGIN:VEVENT
DTSTART:20250211T170000Z
DTEND:20250211T190000Z
X-MICROSOFT-CDO-ALLDAYEVENT:FALSE
SUMMARY:The Law and Your Community
DESCRIPTION:In Honor of Black History Month\, the West Hartford Police Department and the Criminal and Restorative Justice Program and the Black Student Union from the University of Saint Joseph will host an interactive presentation to develop\, strengthen\, and revitalize community and law enforcement relations.
X-ALT-DESC;FMTTYPE=text/html:In Honor of Black History Month\, the West Hartford Police Department and the Criminal and Restorative Justice Program and the Black Student Union from the University of Saint Joseph will host an interactive presentation to develop\, strengthen\, and revitalize community and law enforcement relations.
LOCATION:University of Saint Joseph Mercy Hall\, Crystal Room 1678 Asylum Avenue West Hartford\, CT
UID:e.3150.15850
SEQUENCE:3
DTSTAMP:20260424T025053Z
URL:https://business.whchamber.com/events/details/the-law-and-your-community-15850
END:VEVENT

END:VCALENDAR
