BEGIN:VCALENDAR
VERSION:2.0
PRODID:-//ChamberMaster//Event Calendar 2.0//EN
METHOD:PUBLISH
X-PUBLISHED-TTL:P3D
REFRESH-INTERVAL:P3D
CALSCALE:GREGORIAN
BEGIN:VEVENT
DTSTART:20240303T180000Z
DTEND:20240303T210000Z
X-MICROSOFT-CDO-ALLDAYEVENT:FALSE
SUMMARY:The Connecticut Spelling Bee
DESCRIPTION:As Connecticut's Official Regional Partner for the Scripps National Spelling Bee\, The Noah Webster House & West Hartford Historical Society is proud to present the Connecticut Spelling Bee! Join us at the University of Saint Joseph's Bruyette Athenaeum's Hoffman Auditorium on March 3\, 2024\, at 1:00pm\, to see CT's top spellers compete to become CT's Spelling Champion at the Connecticut Spelling Bee! Admission is FREE and seating is first come\, first served. Please contact us at events@noahwebsterhouse.org or 860-502-3247 for more information.
X-ALT-DESC;FMTTYPE=text/html:As Connecticut&rsquo\;s Official Regional Partner for the Scripps National Spelling Bee\, The Noah Webster House &amp\; West Hartford Historical Society is proud to present the Connecticut Spelling Bee! Join us at the University of Saint Joseph&rsquo\;s Bruyette Athenaeum&rsquo\;s Hoffman Auditorium on March 3\, 2024\, at 1:00pm\, to see CT&#39\;s top spellers compete to become CT&#39\;s Spelling Champion at the Connecticut Spelling Bee! Admission is FREE and seating is first come\, first served. Please contact us at events@noahwebsterhouse.org or 860-502-3247 for more information.
LOCATION:University of Saint Joseph's Hoffman Auditorium\,1678 Asylum Ave\, West Hartford\, CT 06117
UID:e.3150.12757
SEQUENCE:3
DTSTAMP:20260424T222629Z
URL:https://business.whchamber.com/events/details/the-connecticut-spelling-bee-12757
END:VEVENT

END:VCALENDAR
