BEGIN:VCALENDAR
VERSION:2.0
PRODID:-//ChamberMaster//Event Calendar 2.0//EN
METHOD:PUBLISH
X-PUBLISHED-TTL:P3D
REFRESH-INTERVAL:P3D
CALSCALE:GREGORIAN
BEGIN:VEVENT
DTSTART:20250309T170000Z
DTEND:20250309T200000Z
X-MICROSOFT-CDO-ALLDAYEVENT:FALSE
SUMMARY:The Connecticut Spelling Bee
DESCRIPTION:The Connecticut Spelling Bee will return to West Hartford on Sunday\, March 9\, 2025\, and participants will compete for the chance to represent the state at the 2025 Scripps National Spelling Bee. *Please note that registration to compete in the CT Bee has closed.\n\nThe 8th  Annual Connecticut Spelling Bee is presented by the Noah Webster House & West Hartford Historical Society\, Connecticut's Official Regional Partner of the Scripps National Spelling Bee. The competition begins at 1:00 p.m. on Sunday\, March 9 at the Hoffman Auditorium at the University of Saint Joseph\, located at 1678 Asylum Avenue in West Hartford.\n\nThe Connecticut Spelling Bee is free and open to the public (first come\, first served). Live recordings of this event are prohibited. Doors open at 12:30 p.m. For more information about The Connecticut Spelling Bee\, please email us at events@noahwebsterhouse.org. \n\nThank you to our Premier Sponsor\, PeoplesBank!
X-ALT-DESC;FMTTYPE=text/html:<p><span style="background-color:transparent\; color:rgb(0\, 0\, 0)\; font-family:times new roman\,serif\; font-size:11pt">The Connecticut Spelling Bee will return to West Hartford on Sunday\, March 9\, 2025\, and participants will compete for the chance to represent the state at the 2025 Scripps National Spelling Bee. *Please note that registration to compete in the CT Bee has closed.</span></p>\n\n<p><span style="background-color:transparent\; color:rgb(0\, 0\, 0)\; font-family:times new roman\,serif\; font-size:11pt">The 8</span><span style="background-color:transparent\; color:rgb(0\, 0\, 0)\; font-family:times new roman\,serif\; font-size:11pt"><span style="font-size:0.6em">th&nbsp\; </span></span><span style="background-color:transparent\; color:rgb(0\, 0\, 0)\; font-family:times new roman\,serif\; font-size:11pt">Annual Connecticut Spelling Bee is presented by the Noah Webster House &amp\; West Hartford Historical Society\, Connecticut&rsquo\;s Official Regional Partner of the Scripps National Spelling Bee. The competition begins at 1:00 p.m. on Sunday\, March 9 at the Hoffman Auditorium at the University of Saint Joseph\, located at 1678 Asylum Avenue in West Hartford.</span></p>\n\n<p><span style="background-color:transparent\; color:rgb(0\, 0\, 0)\; font-family:times new roman\,serif\; font-size:11pt">The Connecticut Spelling Bee is free and open to the public (first come\, first served). Live recordings of this event are prohibited. Doors open at 12:30 p.m. For more information about The Connecticut Spelling Bee\, please email us at events@noahwebsterhouse.org.&nbsp\;</span></p>\n\n<p><span style="background-color:transparent\; color:rgb(0\, 0\, 0)\; font-family:times new roman\,serif\; font-size:11pt">Thank you to our Premier Sponsor\, PeoplesBank!</span></p>\n\n<div>&nbsp\;</div>\n
LOCATION:Hoffman Auditorium at the University of Saint Joseph\, located at 1678 Asylum Avenue in West Hartford.
UID:e.3150.15886
SEQUENCE:3
DTSTAMP:20260424T024701Z
URL:https://business.whchamber.com/events/details/the-connecticut-spelling-bee-03-09-2025-15886
END:VEVENT

END:VCALENDAR
