BEGIN:VCALENDAR
VERSION:2.0
PRODID:-//ChamberMaster//Event Calendar 2.0//EN
METHOD:PUBLISH
X-PUBLISHED-TTL:P3D
REFRESH-INTERVAL:P3D
CALSCALE:GREGORIAN
BEGIN:VEVENT
DTSTART:20220412T230000Z
DTEND:20220413T000000Z
X-MICROSOFT-CDO-ALLDAYEVENT:FALSE
SUMMARY:The Color of Justice Speaker Series: Implicit Bias at the University of Saint Joseph in West Hartford
DESCRIPTION:CT Chief Justice Robinson Kicks Off 2022 USJ Speaker Series with Implicit Bias Presentation  \n\n\n\nThe University of Saint Joseph Criminal Justice and Restorative Justice program presents the 2022 Speaker Series\, "The Color of Justice\," starting on April 12. This event will feature Connecticut State Supreme Court Justice Richard Robinson discussing implicit bias. Joining the chief justice will be journalist Karen Florin of The Day of New London and attorney James Bergenn\, Partner with the Hartford law firm Shipman & Goodwin. Florin\, a reporter for 25 years\, focused most recently on the court system. She was a longtime member\, and co-chair\, of Connecticut's Judicial-Media Committee. Attorney James Bergenn is an experienced trial lawyer with a record of handling high-stakes criminal and civil cases in state and federal courts\, in and outside of Connecticut\, and was recognized as a 2021 Connecticut Super Lawyer.  \n\n\n\nThe public is invited to attend this free event in the University's Crystal Room located in Mercy Hall\, beginning with a reception at 6:15 p.m. followed by the guest speakers at 7 p.m.  \n\n\n\nUSJ President Rhona Free said\, "USJ's Bachelor of Science in Criminal Justice and Restorative Justice program is unique in providing students with knowledge in law enforcement\, corrections\, and the judicial systems but also the theories and practice of restorative justice. Bringing experts\, like the speakers in this series\, to campus reflects the university's commitment to ensuring that students hear from people who have been most directly affected by and who play important roles in the criminal justice system."   \n\n\n\nA second session is planned for April 19 and will feature case histories showing treatment of people of color by the justice system. Panelists will be Ken Barone\, manager of the Connecticut Racial Profiling Prohibition Project\; State Senator Gary Winfield\; Bloomfield High School state champion football coach Tylon Outlaw\; Hartford City Councilor Tiana Hercules\; Assistant to State Police Commissioner/Former Hartford Deputy Police Chief Brian Foley\; and Hartford civil rights attorney Ken Krayeske. Moderator Andy Thibault is the Speaker Series coordinator and a member of the University's Digital Media and Communication Advisory Board. The public is invited to attend this free event on April 19 in the University's Crystal Room in Mercy Hall\, beginning with a reception at 6:15 p.m. followed by the guest speakers at 7 p.m.  \n\n\n\nThese in-person events are free and open to the public. Seats will be limited\, and masks will be required. Registration is required: usj.edu/colorofjustice.  \n\n\n\nLearn more about USJ's Bachelor of Science in Criminal Justice and Restorative Justice here.
X-ALT-DESC;FMTTYPE=text/html:<div>\n<p><strong>CT Chief Justice Robinson Kicks Off 2022 USJ Speaker Series with Implicit Bias Presentation&nbsp\;</strong><span style="font-family:calibri\,calibri_embeddedfont\,calibri_msfontservice\,sans-serif\; font-size:16pt">&nbsp\;</span></p>\n</div>\n\n<div>\n<p><span style="font-family:calibri\,calibri_embeddedfont\,calibri_msfontservice\,sans-serif\; font-size:12pt">The University of Saint Joseph Criminal Justice and Restorative Justice program presents the 2022 Speaker Series\, &ldquo\;The Color of Justice\,&rdquo\; starting on April 12. This event will feature Connecticut State Supreme Court Justice Richard Robinson discussing implicit bias. Joining the chief justice will be journalist Karen Florin of </span><span style="font-family:calibri\,calibri_embeddedfont\,calibri_msfontservice\,sans-serif\; font-size:12pt">The Day</span><span style="font-family:calibri\,calibri_embeddedfont\,calibri_msfontservice\,sans-serif\; font-size:12pt"> of New London and attorney James Bergenn\, Partner with the Hartford law firm Shipman &amp\; Goodwin. Florin\, a reporter for 25 years\, focused most recently on the court system. She was a longtime member\, and co-chair\, of Connecticut&#39\;s Judicial-Media Committee. Attorney James Bergenn is an experienced trial lawyer with a record of handling high-stakes criminal and civil cases in state and federal courts\, in and outside of Connecticut\, and was recognized as a 2021 Connecticut Super Lawyer.&nbsp\;</span><span style="font-family:calibri\,calibri_embeddedfont\,calibri_msfontservice\,sans-serif\; font-size:12pt">&nbsp\;</span></p>\n</div>\n\n<div>\n<p><strong><span style="font-family:calibri\,calibri_embeddedfont\,calibri_msfontservice\,sans-serif\; font-size:12pt">The public is invited to attend this free event in the University&#39\;s Crystal Room located in Mercy Hall\, beginning with a reception at 6:15 p.m. followed by the guest speakers at 7 p.m.&nbsp\;</span><span style="font-family:calibri\,calibri_embeddedfont\,calibri_msfontservice\,sans-serif\; font-size:12pt">&nbsp\;</span></strong></p>\n</div>\n\n<div>\n<p><span style="font-family:calibri\,calibri_embeddedfont\,calibri_msfontservice\,sans-serif\; font-size:12pt">USJ President Rhona Free said\, &ldquo\;USJ&rsquo\;s Bachelor of Science in Criminal Justice and Restorative Justice program is unique in providing students with knowledge in law enforcement\, corrections\, and the judicial systems but also the theories and practice of restorative justice. Bringing experts\, like the speakers in this series\, to campus reflects the university&rsquo\;s commitment to ensuring that students hear from people who have been most directly affected by and who play important roles in the criminal justice system.&rdquo\;&nbsp\;&nbsp\;</span><span style="font-family:calibri\,calibri_embeddedfont\,calibri_msfontservice\,sans-serif\; font-size:12pt">&nbsp\;</span></p>\n</div>\n\n<div>\n<p><span style="font-family:calibri\,calibri_embeddedfont\,calibri_msfontservice\,sans-serif\; font-size:12pt">A second session is planned for April 19 and will feature case histories showing treatment of people of color by the justice system. Panelists will be Ken Barone\, manager of the Connecticut Racial Profiling Prohibition Project\; State Senator Gary Winfield\; Bloomfield High School state champion football coach Tylon Outlaw\; Hartford City Councilor Tiana Hercules\; Assistant to State Police Commissioner/Former Hartford Deputy Police Chief Brian Foley\; and Hartford civil rights attorney Ken Krayeske. Moderator Andy Thibault is the Speaker Series coordinator and a member of the University&rsquo\;s Digital Media and Communication Advisory Board. The public is invited to attend this free event on April 19 in the University&#39\;s Crystal Room in Mercy Hall\, beginning with a reception at 6:15 p.m. followed by the guest speakers at 7 p.m.&nbsp\;</span><span style="font-family:calibri\,calibri_embeddedfont\,calibri_msfontservice\,sans-serif\; font-size:12pt">&nbsp\;</span></p>\n</div>\n\n<div>\n<p><span style="font-family:calibri\,calibri_embeddedfont\,calibri_msfontservice\,sans-serif\; font-size:12pt">These in-person events are free and open to the public. Seats will be limited\, and masks will be required. Registration is required: <a href="http://www.usj.edu/colorofjustice">usj.edu/colorofjustice</a>.&nbsp\;</span><span style="font-family:calibri\,calibri_embeddedfont\,calibri_msfontservice\,sans-serif\; font-size:12pt">&nbsp\;</span></p>\n</div>\n\n<div>\n<p><span style="font-family:calibri\,calibri_embeddedfont\,calibri_msfontservice\,sans-serif\; font-size:12pt">Learn more about USJ&rsquo\;s Bachelor of Science in Criminal Justice and Restorative Justice </span><a class="Hyperlink SCXW25052606 BCX0" href="https://www.usj.edu/academics/sihs/psychology-family-justice-studies/criminal-justice-bs/" rel="noreferrer noopener" style="margin: 0px\; padding: 0px\; user-select: text\; -webkit-user-drag: none\; -webkit-tap-highlight-color: transparent\; text-decoration-line: none\; color: inherit\;" target="_blank"><span style="background-color:rgb(225\, 227\, 230)"><span style="color:rgb(0\, 0\, 255)\; font-family:calibri\,calibri_embeddedfont\,calibri_msfontservice\,sans-serif\; font-size:12pt"><span style="color:rgb(0\, 0\, 0)">here.</span></span></span></a><span style="font-family:calibri\,calibri_embeddedfont\,calibri_msfontservice\,sans-serif\; font-size:12pt">&nbsp\;</span></p>\n</div>\n
LOCATION:The University of Saint Joseph Crystal Room-Mercy Hall
UID:e.3150.9331
SEQUENCE:3
DTSTAMP:20260425T234238Z
URL:https://business.whchamber.com/events/details/the-color-of-justice-speaker-series-implicit-bias-at-the-university-of-saint-joseph-in-west-hartford-9331
END:VEVENT

END:VCALENDAR
