BEGIN:VCALENDAR
VERSION:2.0
PRODID:-//ChamberMaster//Event Calendar 2.0//EN
METHOD:PUBLISH
X-PUBLISHED-TTL:P3D
REFRESH-INTERVAL:P3D
CALSCALE:GREGORIAN
BEGIN:VEVENT
DTSTART:20220625T220000Z
DTEND:20220626T010000Z
X-MICROSOFT-CDO-ALLDAYEVENT:FALSE
SUMMARY:The Ballet Soirée
DESCRIPTION:Ballet Theatre Company will present the final performance of the season at its season-ending gala\, \n\nThe Ballet Soir e\, on June 25\, 2022. \n\nThe Soir e is an annual fundraising event with signature cocktails\, dinner\, conversations with artistic staff\, choreographers and dancers\, and a special performance by Ballet Theatre Company. \n\nFor the Soir e\, BTC's Company Dancers in Residence and Junior Corps de Ballet will dance select pieces of repertoire from the season.\n\nThis joyous philanthropic occasion will raise vital funds for the Company and outreach programs\, and offer members of the Encore Society a unique opportunity to celebrate the Company\, its extraordinary dancers\, and all the generous patrons who support the Ballet.\n\nThe public\, and fans of ballet are welcome! We encourage current Encore Society members to attend this spring-time celebration of the end of the season and we ask members to invite friends.\n\nThe 2022 Soir e will be at the Town Hall Ballroom.\n\nPatrons Doug Eicher and Bonnie Mills have generously offered a matching sponsorship of $10\,000. Purchasing a table for $1\,000 goes to the matching-gift challenge. All proceeds benefit BTC!
X-ALT-DESC;FMTTYPE=text/html:<p>Ballet Theatre Company will present the final performance of the season at its season-ending gala\,<strong>&nbsp\;<br />\nThe Ballet Soir&eacute\;e\,</strong>&nbsp\;on June 25\, 2022.&nbsp\;</p>\n\n<p>The Soir&eacute\;e is an annual fundraising event with signature cocktails\, dinner\, conversations with artistic staff\, choreographers and dancers\, and a special performance by Ballet Theatre Company.&nbsp\;</p>\n\n<p>For the Soir&eacute\;e\, BTC&rsquo\;s Company Dancers in Residence and Junior Corps de Ballet will dance select pieces of repertoire from the season.</p>\n\n<p>This joyous philanthropic occasion will raise vital funds for the Company and outreach programs\, and offer members of the Encore Society a unique opportunity to celebrate the Company\, its extraordinary dancers\, and all the generous patrons who support the Ballet.</p>\n\n<p><strong>The public\, and fans of ballet are welcome!&nbsp\;</strong>We encourage current Encore Society members to attend this spring-time celebration of the end of the season and we ask members to invite friends.</p>\n\n<p>The 2022 Soir&eacute\;e will be at the Town Hall Ballroom.</p>\n\n<p><strong>Patrons Doug Eicher and Bonnie Mills have generously offered a matching sponsorship of $10\,000.&nbsp\;</strong>Purchasing a table for $1\,000 goes to the matching-gift challenge. All proceeds benefit BTC!</p>\n
LOCATION:West Hartford Town Hall Ballroom
UID:e.3150.9471
SEQUENCE:3
DTSTAMP:20260426T023124Z
URL:https://business.whchamber.com/events/details/the-ballet-soir&#233;e-9471
END:VEVENT

END:VCALENDAR
