BEGIN:VCALENDAR
VERSION:2.0
PRODID:-//ChamberMaster//Event Calendar 2.0//EN
METHOD:PUBLISH
X-PUBLISHED-TTL:P3D
REFRESH-INTERVAL:P3D
CALSCALE:GREGORIAN
BEGIN:VEVENT
DTSTART:20230616T220000Z
DTEND:20230617T020000Z
X-MICROSOFT-CDO-ALLDAYEVENT:FALSE
SUMMARY:The Ballet Soirée
DESCRIPTION:The Soir e is a fundraising event with dinner\, conversations with artistic staff\, choreographers and dancers\, and a special performance by Ballet Theatre Company. \n\n\n\nThis joyous philanthropic occasion will raise vital funds for BTC's Company and outreach programs\, and is a unique opportunity to celebrate the Company\, its extraordinary dancers\, and all the generous patrons who support the Ballet.\n\n\n\nFor the Soir e\, BTC's Company Dancers in Residence and Junior Corps de Ballet will dance select pieces of repertoire from A Midsummers Night Dream.
X-ALT-DESC;FMTTYPE=text/html:<strong>The Soir&eacute\;e is a fundraising event with dinner\, conversations with artistic staff\, choreographers and dancers\, and a special performance by Ballet Theatre Company.&nbsp\;</strong><br />\n<br />\nThis joyous philanthropic occasion will raise vital funds for BTC&#39\;s Company and outreach programs\, and is a unique opportunity to celebrate the Company\, its extraordinary dancers\, and all the generous patrons who support the Ballet.<br />\n<br />\nFor the Soir&eacute\;e\, BTC&rsquo\;s Company Dancers in Residence and Junior Corps de Ballet will dance select pieces of repertoire from A Midsummers Night Dream.
LOCATION:The Town & County Club 22 Woodland Street Hartford\, CT 06105
UID:e.3150.12571
SEQUENCE:3
DTSTAMP:20260425T132956Z
URL:https://business.whchamber.com/events/details/the-ballet-soir&#233;e-06-16-2023-12571
END:VEVENT

END:VCALENDAR
